BEGIN:VCALENDAR
VERSION:2.0
PRODID:-//ChamberMaster//Event Calendar 2.0//EN
METHOD:PUBLISH
X-PUBLISHED-TTL:P3D
REFRESH-INTERVAL:P3D
CALSCALE:GREGORIAN
BEGIN:VEVENT
DTSTART:20200722T010000Z
DTEND:20200722T020000Z
X-MICROSOFT-CDO-ALLDAYEVENT:FALSE
SUMMARY:Chalo Baat Karein\, Come Let's Talk
DESCRIPTION:Every Tuesday Call #31# 604-449-5219 from a cell phone or *67 604-449-5219 from a landline and enter 564 766 178# as the conference ID number email communitysafety@surrey.ca or call 778-846-1655 for more information.
X-ALT-DESC;FMTTYPE=text/html:Every Tuesday Call #31# 604-449-5219 from a cell phone or *67 604-449-5219 from a landline and enter 564 766 178# as the conference ID number email communitysafety@surrey.ca or call 778-846-1655 for more information.
LOCATION:
UID:e.749.11135
SEQUENCE:3
DTSTAMP:20260419T223248Z
URL:https://business.swrbot.com/events/details/chalo-baat-karein-come-let-s-talk-07-21-2020-11135
END:VEVENT

END:VCALENDAR
