BEGIN:VCALENDAR
VERSION:2.0
PRODID:-//ChamberMaster//Event Calendar 2.0//EN
METHOD:PUBLISH
X-PUBLISHED-TTL:P3D
REFRESH-INTERVAL:P3D
CALSCALE:GREGORIAN
BEGIN:VEVENT
DTSTART:20200623T230000Z
DTEND:20200624T003000Z
X-MICROSOFT-CDO-ALLDAYEVENT:FALSE
SUMMARY:Chamber Annual General Meeting
DESCRIPTION:Join us for the South Surrey & White Rock Chamber of Commerce's virtual AGM to review the year\, welcome new members\, elect a new Board of Directors and share a plan for continued collaboration and growth for the local business community . We are especially honoured to have Mr. Rick O'Connor as our keynote speaker.\n\n\n\nClick here to see sponsorship opportunities.
X-ALT-DESC;FMTTYPE=text/html:<span style="font-family:arial\;"><span style="font-size: 11pt\;">Join us for the South Surrey &amp\; White Rock Chamber of Commerce&#39\;s virtual AGM to review the year\, welcome new members\, elect a new Board of Directors and share a plan for continued collaboration and growth for the local business community . We are especially honoured to have Mr. Rick O&#39\;Connor as our keynote speaker.</span></span><br />\n<br />\n<span style="font-size:16px\;"><a href="https://chambermaster.blob.core.windows.net/userfiles/UserFiles/chambers/1109/File/Events/2020_Events/2020_AGM/SponsorshipPackage-2020AGM.pdf"><strong><span style="font-size:14px\;">Click here to see sponsorship opportunities.</span></strong></a></span>
LOCATION:Online Event. A Zoom link will be sent to registered participants prior to the meeting.
UID:e.749.14024
SEQUENCE:3
DTSTAMP:20260420T001354Z
URL:https://business.swrbot.com/events/details/chamber-annual-general-meeting-06-23-2020-14024
END:VEVENT

END:VCALENDAR
