BEGIN:VCALENDAR
VERSION:2.0
PRODID:-//ChamberMaster//Event Calendar 2.0//EN
METHOD:PUBLISH
X-PUBLISHED-TTL:P3D
REFRESH-INTERVAL:P3D
CALSCALE:GREGORIAN
BEGIN:VEVENT
DTSTART:20200331T160000Z
DTEND:20200331T170000Z
X-MICROSOFT-CDO-ALLDAYEVENT:FALSE
SUMMARY:Chamber Chat
DESCRIPTION:The Chamber would like to create a space for the business community to come together virtually to share stories and ideas of how their businesses are fairing during these uncertain times.\n\n\n\nJoin us for a virtual 'Chamber Chat' to come together to share stories of how you have had to adapt due to COVID-19. Each participant will be given 2 minutes to share their experience. The meeting will run for 1 hour.\n\n\n\nThe first one is a test\, so space is limited to 20\, on a first-come first basis. The Chamber hopes to host these on a regular basis and allow more to join.\n\n\n\nAll registered participants will receive a zoom link to participate a day before.
X-ALT-DESC;FMTTYPE=text/html:The Chamber would like to create a space for the business community to come together virtually to share stories and ideas of how their businesses are fairing during these uncertain times.<br />\n<br />\nJoin us for a virtual &#39\;Chamber Chat&#39\; to come together to share stories of how you have had to adapt due to COVID-19. Each participant will be given 2 minutes to share their experience. <span style="display: inline !important\; float: none\; background-color: rgb(255\, 255\, 255)\; color: rgb(51\, 51\, 51)\; cursor: text\; font-family: sans-serif\,Arial\,Verdana\,&quot\;Trebuchet MS&quot\;\; font-size: 13px\; font-style: normal\; font-variant: normal\; font-weight: 400\; letter-spacing: normal\; line-height: 1.6\; orphans: 2\; text-align: left\; text-decoration: none\; text-indent: 0px\; text-transform: none\; -webkit-text-stroke-width: 0px\; white-space: normal\; word-spacing: 0px\;">The meeting will run for 1 hour.</span><br />\n<br />\nThe first one is a test\, so space is limited to 20\, on a first-come first basis. The Chamber hopes to host these on a regular basis and allow more to join.<br />\n<br />\nAll registered participants will receive a zoom link to participate a day before.<br />\n<br />\n&nbsp\;
LOCATION:Zoom conference call Details will be sent to registered participants
UID:e.749.14009
SEQUENCE:3
DTSTAMP:20260420T052610Z
URL:https://business.swrbot.com/events/details/chamber-chat-03-31-2020-14009
END:VEVENT

END:VCALENDAR
