BEGIN:VCALENDAR
VERSION:2.0
PRODID:-//ChamberMaster//Event Calendar 2.0//EN
METHOD:PUBLISH
X-PUBLISHED-TTL:P3D
REFRESH-INTERVAL:P3D
CALSCALE:GREGORIAN
BEGIN:VEVENT
DTSTART:20170608T230000Z
DTEND:20170609T040000Z
X-MICROSOFT-CDO-ALLDAYEVENT:FALSE
SUMMARY:Charity Golf Tournament
DESCRIPTION:Play on the Green. Save the green. Dinner\, Silent Auction\, Thank you prizes\, 50/50s\, Long Drives & KPs!
X-ALT-DESC;FMTTYPE=text/html:Play on the Green. Save the green. Dinner\, Silent Auction\, Thank you prizes\, 50/50s\, Long Drives &amp\; KPs!
LOCATION:Eaglequest Golf Course 7778-152 Street\, Surrey
UID:e.749.5236
SEQUENCE:3
DTSTAMP:20260422T001054Z
URL:https://business.swrbot.com/events/details/charity-golf-tournament-06-08-2017-5236
END:VEVENT

END:VCALENDAR
