BEGIN:VCALENDAR
VERSION:2.0
PRODID:-//ChamberMaster//Event Calendar 2.0//EN
METHOD:PUBLISH
X-PUBLISHED-TTL:P3D
REFRESH-INTERVAL:P3D
CALSCALE:GREGORIAN
BEGIN:VEVENT
DTSTART:20140524T010000Z
DTEND:20140524T023000Z
X-MICROSOFT-CDO-ALLDAYEVENT:FALSE
SUMMARY:Chef's Table at Chartwell Imperial Place Retirement Residence
DESCRIPTION:The Chef's Table Gather around to enjoy a culinary demonstration by Chef Warren at Chartwell Imperial Place Retirement Residence. Partake in the fare of Italy and enjoy the wine pairings. Discover fresh summer party ideas. Take home the recipes! Demonstration held at Chartwell Imperial Place Dining Room To reserve your complimentary ticket call Dale 604 - 581 - 1555
X-ALT-DESC;FMTTYPE=text/html:The Chef&#39\;s Table Gather around to enjoy a culinary demonstration by Chef Warren at Chartwell Imperial Place Retirement Residence. Partake in the fare of Italy and enjoy the wine pairings. Discover fresh summer party ideas. Take home the recipes! Demonstration held at Chartwell Imperial Place Dining Room To reserve your complimentary ticket call Dale 604 - 581 - 1555
LOCATION:Chartwell Imperial Place Retirement Residence 13853 - 102 Ave Surrey
UID:e.749.2642
SEQUENCE:3
DTSTAMP:20260425T213106Z
URL:https://business.swrbot.com/events/details/chef-s-table-at-chartwell-imperial-place-retirement-residence-05-23-2014-2642
END:VEVENT

END:VCALENDAR
