BEGIN:VCALENDAR
VERSION:2.0
PRODID:-//ChamberMaster//Event Calendar 2.0//EN
METHOD:PUBLISH
X-PUBLISHED-TTL:P3D
REFRESH-INTERVAL:P3D
CALSCALE:GREGORIAN
BEGIN:VEVENT
DTSTART:20200116T020000Z
DTEND:20200116T043000Z
X-MICROSOFT-CDO-ALLDAYEVENT:FALSE
SUMMARY:Chinese New Year Celebration Dinner
DESCRIPTION:Please join us for a special feast to kick off the year! Come enjoy an evening of great food\, networking\, door prizes\, and entertainment with business\, political\, and community leaders.\n\nWe invite you to come dressed in traditional Chinese formal wear or something special in red in honour of Chinese New Year.
X-ALT-DESC;FMTTYPE=text/html:<p yacgeqnar7w="">Please join us for a special feast to kick off the year! Come enjoy an evening of great food\, networking\, door prizes\, and entertainment with business\, political\, and community leaders.</p>\n\n<p yacgeqnar7w="">We invite you to come dressed in traditional Chinese formal wear or something special in red in honour of Chinese New Year.</p>\n
LOCATION:Imperial Garden Chinese Cuisine 1625 152nd St\, Surrey (Semiahmoo Shopping Centre)
UID:e.749.14001
SEQUENCE:3
DTSTAMP:20260420T083225Z
URL:https://business.swrbot.com/events/details/chinese-new-year-celebration-dinner-01-15-2020-14001
END:VEVENT

END:VCALENDAR
