BEGIN:VCALENDAR
VERSION:2.0
PRODID:-//ChamberMaster//Event Calendar 2.0//EN
METHOD:PUBLISH
X-PUBLISHED-TTL:P3D
REFRESH-INTERVAL:P3D
CALSCALE:GREGORIAN
BEGIN:VEVENT
DTSTART:20180922T200000Z
DTEND:20180923T010000Z
X-MICROSOFT-CDO-ALLDAYEVENT:FALSE
SUMMARY:Chopped Cooking Competition
DESCRIPTION:Participate in this free series of cooking events for ages 10 18 at recreation centres across Surrey from April 6 to June 9. After teams showcase their skills and creativity at their local centre\, the winners are invited to compete in the city-wide finale on September 22 at the South Surrey Recreation and Arts Centre. There will be secret ingredients\, prizes and more. Full details at www.surrey.ca/sys
X-ALT-DESC;FMTTYPE=text/html:Participate in this free series of cooking events for ages 10&ndash\;18 at recreation centres across Surrey from April 6 to June 9. After teams showcase their skills and creativity at their local centre\, the winners are invited to compete in the city-wide finale on September 22 at the South Surrey Recreation and Arts Centre. There will be secret ingredients\, prizes and more. Full details at www.surrey.ca/sys
LOCATION:South Surrey Reacreaton and Arts Centre 14601 20 Ave Surrey\, B.C
UID:e.749.8234
SEQUENCE:3
DTSTAMP:20260421T054305Z
URL:https://business.swrbot.com/events/details/chopped-cooking-competition-09-22-2018-8234
END:VEVENT

END:VCALENDAR
