BEGIN:VCALENDAR
VERSION:2.0
PRODID:-//ChamberMaster//Event Calendar 2.0//EN
METHOD:PUBLISH
X-PUBLISHED-TTL:P3D
REFRESH-INTERVAL:P3D
CALSCALE:GREGORIAN
BEGIN:VEVENT
DTSTART:20141215T223000Z
DTEND:20141216T000000Z
X-MICROSOFT-CDO-ALLDAYEVENT:FALSE
SUMMARY:Christmas Carolers
DESCRIPTION:Join us in singing your favourite Christmas Carols led by Brian Gimbel\, a popular entertainer here in Surrey. Lend your voice to celebrate this Merry Season. Enjoy refreshments compliments of our Chef Alan.
X-ALT-DESC;FMTTYPE=text/html:Join us in singing your favourite Christmas Carols led by Brian Gimbel\, a popular entertainer here in Surrey. Lend your voice to celebrate this Merry Season. Enjoy refreshments compliments of our Chef Alan.
LOCATION:Chartwell Imperial Place Retirement Residence 13853 - 102 Avenue\, Surrey
UID:e.749.2844
SEQUENCE:3
DTSTAMP:20260425T140152Z
URL:https://business.swrbot.com/events/details/christmas-carolers-12-15-2014-2844
END:VEVENT

END:VCALENDAR
