BEGIN:VCALENDAR
VERSION:2.0
PRODID:-//ChamberMaster//Event Calendar 2.0//EN
METHOD:PUBLISH
X-PUBLISHED-TTL:P3D
REFRESH-INTERVAL:P3D
CALSCALE:GREGORIAN
BEGIN:VEVENT
DTSTART:20190525T170000Z
DTEND:20190525T220000Z
X-MICROSOFT-CDO-ALLDAYEVENT:FALSE
SUMMARY:Cloverdale Market Days
DESCRIPTION:The Cloverdale Market Days is one of the largest open air markets with over 100 vendors\, food trucks\, kids zone\, and live entertainment. Event hosted by the Cloverdale Arts & Entertainment Association.
X-ALT-DESC;FMTTYPE=text/html:The Cloverdale Market Days is one of the largest open air markets with over 100 vendors\, food trucks\, kids zone\, and live entertainment. Event hosted by the Cloverdale Arts &amp\; Entertainment Association.
LOCATION:Historic Downtown Cloverdale on 176 street between 56A & 58 Ave.
UID:e.749.10351
SEQUENCE:3
DTSTAMP:20260420T185801Z
URL:https://business.swrbot.com/events/details/cloverdale-market-days-05-25-2019-10351
END:VEVENT

END:VCALENDAR
