BEGIN:VCALENDAR
VERSION:2.0
PRODID:-//ChamberMaster//Event Calendar 2.0//EN
METHOD:PUBLISH
X-PUBLISHED-TTL:P3D
REFRESH-INTERVAL:P3D
CALSCALE:GREGORIAN
BEGIN:VEVENT
DTSTART;VALUE=DATE:20260514
DTEND;VALUE=DATE:20260519
TRANSP:TRANSPARENT
X-MICROSOFT-CDO-ALLDAYEVENT:TRUE
SUMMARY:Cloverdale Rodeo
DESCRIPTION:Gain entry to the heart of the action at the Cloverdale Rodeo and Country Fair with a Gate Admission Ticket. With admission starting at just $18 (kids 12 & under are free)\, your Country Fair ticket provides access to the fairgrounds\, where you can enjoy a variety of attractions. With over 40 food trucks\, an indigenous village\, an artisan market\, and live performances\, there's something for everyone in the family to enjoy. Thrill-seekers can experience the excitement of the Midway with its exhilarating rides and games.\n\n\n\nThis ticket offers a straightforward way to experience all the fun and entertainment the fair has to offer. Join us for a day of exploration and enjoyment at the Cloverdale Rodeo and Country Fair! The exciting lineup of attractions for the 2026 Country Fair will be announced in March/April. Check out the resources from the 2025 event below to give you a taste of what to expect\, purchase your tickets today and look forward to experiencing an original kind of country May 14-18\, 2026!\n\nMembers can receive an exclusive 20% discount on tickets to this iconic community event\, featuring world-class rodeo action\, live music\, midway attractions\, and family-friendly entertainment in the heart of Cloverdale. The Rodeo is a long-standing celebration of Western heritage and community spirit.\n\nHow to claim your member discount:\n\n\n	\n	Visit cloverdalerodeo.com\n	\n	\n	Enter promo code SWRBOT2026 at checkout\n	\n	\n	Offer valid on all tickets until May 18\, 2026
X-ALT-DESC;FMTTYPE=text/html:<p><span style="font-size:14px\;"><span style="font-family:arial\;">Gain entry to the heart of the action at the Cloverdale Rodeo and Country Fair with a Gate Admission Ticket. With admission starting at just $18 (kids 12 &amp\; under are free)\, your Country Fair ticket provides access to the fairgrounds\, where you can enjoy a variety of attractions. With over 40 food trucks\, an indigenous village\, an artisan market\, and live performances\, there&rsquo\;s something for everyone in the family to enjoy. Thrill-seekers can experience the excitement of the Midway with its exhilarating rides and games.<br />\n<br />\nThis ticket offers a straightforward way to experience all the fun and entertainment the fair has to offer. Join us for a day of exploration and enjoyment at the Cloverdale Rodeo and Country Fair! The exciting lineup of attractions for the 2026 Country Fair will be announced in March/April. Check out the resources from the 2025 event below to give you a taste of what to expect\, purchase your tickets today and look forward to experiencing an original kind of country May 14-18\, 2026!</span></span></p>\n\n<p data-end="565" data-start="260"><span style="font-size:14px\;"><span style="font-family:arial\;">Members can receive an exclusive <strong data-end="309" data-start="293">20% discount</strong> on tickets to this iconic community event\, featuring world-class rodeo action\, live music\, midway attractions\, and family-friendly entertainment in the heart of Cloverdale. The Rodeo is a long-standing celebration of Western heritage and community spirit.</span></span></p>\n\n<p data-end="605" data-start="567"><span style="font-size:14px\;"><span style="font-family:arial\;"><strong data-end="605" data-start="567">How to claim your member discount:</strong></span></span></p>\n\n<ul data-end="739" data-start="606">\n	<li data-end="639" data-section-id="2p5sy0" data-start="606">\n	<p><span style="font-size:14px\;"><span style="font-family:arial\;">Visit <strong data-end="637" data-start="614">cloverdalerodeo.com</strong></span></span></p>\n	</li>\n	<li data-end="687" data-section-id="frrb7a" data-start="640">\n	<p><span style="font-size:14px\;"><span style="font-family:arial\;">Enter promo code <strong data-end="673" data-start="659">SWRBOT2026</strong> at checkout</span></span></p>\n	</li>\n	<li data-end="739" data-section-id="14buict" data-start="688">\n	<p><span style="font-size:14px\;"><span style="font-family:arial\;">Offer valid on all tickets until <strong data-end="739" data-start="723">May 18\, 2026</strong></span></span></p>\n	</li>\n</ul>\n
LOCATION:Cloverdale
UID:e.749.14408
SEQUENCE:3
DTSTAMP:20260424T080918Z
URL:https://business.swrbot.com/events/details/cloverdale-rodeo-14408
END:VEVENT

END:VCALENDAR
