BEGIN:VCALENDAR
VERSION:2.0
PRODID:-//ChamberMaster//Event Calendar 2.0//EN
METHOD:PUBLISH
X-PUBLISHED-TTL:P3D
REFRESH-INTERVAL:P3D
CALSCALE:GREGORIAN
BEGIN:VEVENT
DTSTART:20170914T203000Z
DTEND:20170914T230000Z
X-MICROSOFT-CDO-ALLDAYEVENT:FALSE
SUMMARY:CME Export Insights: Leveraging Trade Opportunities in a Changing World
DESCRIPTION:Theme: Leveraging Trade Opportunities in a Changing World   NAFTA | CETA WHAT YOU WILL DISCOVER:   What is the status of NAFTA after the 90 day US consultation?   How does CME want to see NAFTA modernized?   How can government support Canadian companies who want to take advantage of CETA?   What are the next steps on each of these issues? PANELISTS:   CME: Dennis Darby\, ICD.D\, President & CEO of CME   Global Affairs Canada (TBC)   BC Ministry of International Trade (TBC)   An Experienced Manufacturer (TBC) Limited seating available. Registration closes September 8\, 2017.
X-ALT-DESC;FMTTYPE=text/html:Theme: Leveraging Trade Opportunities in a Changing World &ndash\; NAFTA | CETA WHAT YOU WILL DISCOVER: &bull\; What is the status of NAFTA after the 90 day US consultation? &bull\; How does CME want to see NAFTA modernized? &bull\; How can government support Canadian companies who want to take advantage of CETA? &bull\; What are the next steps on each of these issues? PANELISTS: &bull\; CME: Dennis Darby\, ICD.D\, President &amp\; CEO of CME &bull\; Global Affairs Canada (TBC) &bull\; BC Ministry of International Trade (TBC) &bull\; An Experienced Manufacturer (TBC) Limited seating available. Registration closes September 8\, 2017.
LOCATION:City Centre Library 10350 University Dr. Surrey\, BC
UID:e.749.5412
SEQUENCE:3
DTSTAMP:20260421T203914Z
URL:https://business.swrbot.com/events/details/cme-export-insights-leveraging-trade-opportunities-in-a-changing-world-09-14-2017-5412
END:VEVENT

END:VCALENDAR
