BEGIN:VCALENDAR
VERSION:2.0
PRODID:-//ChamberMaster//Event Calendar 2.0//EN
METHOD:PUBLISH
X-PUBLISHED-TTL:P3D
REFRESH-INTERVAL:P3D
CALSCALE:GREGORIAN
BEGIN:VEVENT
DTSTART:20141022T160000Z
DTEND:20141023T003000Z
X-MICROSOFT-CDO-ALLDAYEVENT:FALSE
SUMMARY:CME Translink Industry Tour - BURNABY
DESCRIPTION:Date: October 22\, 2014\n\nTime: 9:00 am\n\nLocation: This tour will depart from Burnaby City Hall at 9:00 am. 4949 Canada Way Burnaby\, BC\n\n\n\nThe tour will depart from and conclude at Burnaby City Hall at 9:00 am and visit the following facilities:\n\n	9:30 am - Creation Technologies - http://www.creationtech.com/ \n	11:00 am - Alpha Technologies - http://www.alpha.ca/web2/ \n	1:00 pm Williams & White - http://www.williamsandwhite.com/ \n	2:30 pm - Garibaldi Glass - www.garibaldiglass.com/ \n	4:00 pm BCIT for a reception - http://www.bcit.ca/ \n\nThe bus will return to Burnaby City Hall for drop off.
X-ALT-DESC;FMTTYPE=text/html:Date: October 22\, 2014<br />\nTime: 9:00 am<br />\nLocation: This tour will depart from Burnaby City Hall at 9:00 am. 4949 Canada Way Burnaby\, BC<br />\n<br />\nThe tour will depart from and conclude at Burnaby City Hall at 9:00 am and visit the following facilities:\n<ul>\n	<li>9:30 am - Creation Technologies - <a href="http://www.creationtech.com/">http://www.creationtech.com/ </a></li>\n	<li>11:00 am - Alpha Technologies - <a href="http://www.alpha.ca/web2/">http://www.alpha.ca/web2/ </a></li>\n	<li>1:00 pm Williams &amp\; White - <a href="http://www.williamsandwhite.com/">http://www.williamsandwhite.com/ </a></li>\n	<li>2:30 pm - Garibaldi Glass - <a href="http://www.garibaldiglass.com">www.garibaldiglass.com/ </a></li>\n	<li>4:00 pm BCIT for a reception - <a href="http://www.bcit.ca/">http://www.bcit.ca/ </a></li>\n</ul>\nThe bus will return to Burnaby City Hall for drop off.
LOCATION:This tour will depart from Burnaby City Hall at 9:00 am. 4949 Canada Way Burnaby\, BC
UID:e.749.2795
SEQUENCE:3
DTSTAMP:20260425T151728Z
URL:https://business.swrbot.com/events/details/cme-translink-industry-tour-burnaby-10-22-2014-2795
END:VEVENT

END:VCALENDAR
