BEGIN:VCALENDAR
VERSION:2.0
PRODID:-//ChamberMaster//Event Calendar 2.0//EN
METHOD:PUBLISH
X-PUBLISHED-TTL:P3D
REFRESH-INTERVAL:P3D
CALSCALE:GREGORIAN
BEGIN:VEVENT
DTSTART:20170226T000000Z
DTEND:20170226T040000Z
X-MICROSOFT-CDO-ALLDAYEVENT:FALSE
SUMMARY:Coldest Night of the Year - Cloverdale
DESCRIPTION:The Cloverdale Community Kitchen serves more than 150 meals a week\, adding up to nearly 8\,000 meals a year. The fund raised through this year's Coldest Night of the Year will keep our kitchen operating\, and will help us continue to provide food and care to those in need in our community. and Options' Bill Reid Memorial Shelter is now under construction. We are replacing the aging 10-bed shelter and replacing it with a 26-bed facility that will provide both shelter beds and transitional housing opportunities on the tranquil farm site. Funds raised will support putting the finishing touches on the shelter - furniture\, linens to make it welcoming. Walk with us on February 25\, 2017. Make a difference in Cloverdale by raising funds\, walking\, and helping those in need.
X-ALT-DESC;FMTTYPE=text/html:The Cloverdale Community Kitchen serves more than 150 meals a week\, adding up to nearly 8\,000 meals a year. The fund raised through this year&#39\;s Coldest Night of the Year will keep our kitchen operating\, and will help us continue to provide food and care to those in need in our community. and Options&#39\; Bill Reid Memorial Shelter is now under construction. We are replacing the aging 10-bed shelter and replacing it with a 26-bed facility that will provide both shelter beds and transitional housing opportunities on the tranquil farm site. Funds raised will support putting the finishing touches on the shelter - furniture\, linens to make it welcoming. Walk with us on February 25\, 2017. Make a difference in Cloverdale by raising funds\, walking\, and helping those in need.
LOCATION:5337-180th Street Surrey BC
UID:e.749.5208
SEQUENCE:3
DTSTAMP:20260422T055433Z
URL:https://business.swrbot.com/events/details/coldest-night-of-the-year-cloverdale-02-25-2017-5208
END:VEVENT

END:VCALENDAR
