BEGIN:VCALENDAR
VERSION:2.0
PRODID:-//ChamberMaster//Event Calendar 2.0//EN
METHOD:PUBLISH
X-PUBLISHED-TTL:P3D
REFRESH-INTERVAL:P3D
CALSCALE:GREGORIAN
BEGIN:VEVENT
DTSTART:20190221T170000Z
DTEND:20190222T003000Z
X-MICROSOFT-CDO-ALLDAYEVENT:FALSE
SUMMARY:CONNECTING WITH VENTURE CAPITALISTS
DESCRIPTION:BDO CANADA'S FACE TO FACE INVESTOR PITCH DAY BDO's mission is to drive innovation and growth within the technology industry. BDO Vancouver\, Toronto\, Montreal\, Ottawa\, and Halifax are facilitating a full day of business pitches to a panel of venture capitalists (VCs). This will provide an informal yet impactful opportunity for entrepreneurs to interact with leading VCs. You are invited to apply via a short online application conveying your business strategy. The panel of VCs will choose 10-12 finalists to give a 10-minute pitch on the day of the event. Click HERE to apply today for this great opportunity. Application deadline: February 15\, 2019
X-ALT-DESC;FMTTYPE=text/html:BDO CANADA&rsquo\;S FACE TO FACE INVESTOR PITCH DAY BDO&rsquo\;s mission is to drive innovation and growth within the technology industry. BDO Vancouver\, Toronto\, Montreal\, Ottawa\, and Halifax are facilitating a full day of business pitches to a panel of venture capitalists (VCs). This will provide an informal yet impactful opportunity for entrepreneurs to interact with leading VCs. You are invited to apply via a short online application conveying your business strategy. The panel of VCs will choose 10-12 finalists to give a 10-minute pitch on the day of the event. Click <a href="http://www.bdo.ca/vc2019" target="_blank">HERE</a> to apply today for this great opportunity. <em><strong>Application deadline: February 15\, 2019</strong></em>
LOCATION:BDO Canada Vancouver office 600 - 925 West Georgia Street Vancouver\, BC V6C 3L2
UID:e.749.10097
SEQUENCE:3
DTSTAMP:20260420T230613Z
URL:https://business.swrbot.com/events/details/connecting-with-venture-capitalists-02-21-2019-10097
END:VEVENT

END:VCALENDAR
