BEGIN:VCALENDAR
VERSION:2.0
PRODID:-//ChamberMaster//Event Calendar 2.0//EN
METHOD:PUBLISH
X-PUBLISHED-TTL:P3D
REFRESH-INTERVAL:P3D
CALSCALE:GREGORIAN
BEGIN:VEVENT
DTSTART:20200612T170000Z
DTEND:20200612T190000Z
X-MICROSOFT-CDO-ALLDAYEVENT:FALSE
SUMMARY:COVID-19 Virtual Town Hall for South Surrey/White Rock - June 12th
DESCRIPTION:As the community continues to adjust to the re-opening of businesses and services\, this Community Town Hall for South Surrey & White Rock is going to continue to provide important updates as they relate to the pandemic\, including programs and announcements from Fraser Health and each level of government.\n\n\n\nThe Chamber is also going to provide its platform to make time and space to discuss diversity\, racism and inclusion. These issues affect everyone\, including businesses. The intention is to create a dialogue to share experiences\, information and resources for the community.\n\n\n\nIf you have been affected by these issues and have a story of resilience\, hope and/or inspiration that you would like to share as a panelists\, please contact the Chamber at 604-536-6844 or email info@sswrchamber.ca.\n\n\nTogether we are stronger and we will get through this.
X-ALT-DESC;FMTTYPE=text/html:<span style="display: inline !important\; float: none\; background-color: rgba(255\, 255\, 255\, 1)\; color: rgba(38\, 38\, 38\, 1)\; font-family: inherit\; font-size: inherit\; font-size-adjust: none\; font-stretch: inherit\; font-style: inherit\; font-variant: inherit\; font-weight: inherit\; letter-spacing: normal\; line-height: inherit\; orphans: 2\; text-align: left\; text-decoration: none\; text-indent: 0px\; text-transform: none\; -webkit-text-stroke-width: 0px\; white-space: normal\; word-spacing: 0px\;">As the community continues to adjust to the re-opening of businesses and services\, this Community Town Hall for South Surrey &amp\; White Rock is going to continue to provide important updates as they relate to the pandemic\, including programs and announcements from Fraser Health and each level of government.<br />\n<br />\nThe Chamber is also going to provide its platform to make time and space to discuss diversity\, racism and inclusion. These issues affect everyone\, including businesses. The intention is to create a dialogue to share experiences\, information and resources for the community.<br />\n<br />\nIf you have been affected by these issues and have a story of resilience\, hope and/or inspiration that you would like to share as a panelists\, please contact the Chamber at 604-536-6844 or email info@sswrchamber.ca.</span>\n<p><br style="color: rgb(51\, 51\, 51)\; font-family: sans-serif\,Arial\,Verdana\,&amp\;quot\;Trebuchet MS&amp\;quot\;\; font-size: 13px\; font-style: normal\; font-variant: normal\; font-weight: 400\; letter-spacing: normal\; orphans: 2\; text-align: left\; text-decoration: none\; text-indent: 0px\; text-transform: none\; -webkit-text-stroke-width: 0px\; white-space: normal\; word-spacing: 0px\;" />\n<span style="display: inline !important\; float: none\; background-color: rgb(255\, 255\, 255)\; color: rgb(51\, 51\, 51)\; cursor: text\; font-family: sans-serif\,Arial\,Verdana\,&quot\;Trebuchet MS&quot\;\; font-size: 13px\; font-style: normal\; font-variant: normal\; font-weight: 400\; letter-spacing: normal\; line-height: 1.6\; orphans: 2\; text-align: left\; text-decoration: none\; text-indent: 0px\; text-transform: none\; -webkit-text-stroke-width: 0px\; white-space: normal\; word-spacing: 0px\;">Together we are stronger and we will get through this.</span></p>\n
LOCATION:This event is a virtual Zoom Webinar. All registered participants will receive the Zoom link and password in an email confirmation with a spot to submit questions in advance.
UID:e.749.14026
SEQUENCE:3
DTSTAMP:20260420T020421Z
URL:https://business.swrbot.com/events/details/covid-19-virtual-town-hall-for-south-surrey-white-rock-june-12th-06-12-2020-14026
END:VEVENT

END:VCALENDAR
