BEGIN:VCALENDAR
VERSION:2.0
PRODID:-//ChamberMaster//Event Calendar 2.0//EN
METHOD:PUBLISH
X-PUBLISHED-TTL:P3D
REFRESH-INTERVAL:P3D
CALSCALE:GREGORIAN
BEGIN:VEVENT
DTSTART:20190314T170000Z
DTEND:20190314T183000Z
X-MICROSOFT-CDO-ALLDAYEVENT:FALSE
SUMMARY:CPP and OAS Pensions: Now or Later?
DESCRIPTION:- When should I begin taking Canada Pension Plan (CPP)? - When should I begin taking Old Age Security (OAS)? - How do I coordinate government pensions with my work pension or RRSP? - How do good health and poor health affect these decisions? - How are pensions affected by my other sources of taxable income? - What are the "OAS claw back" rules\, and how do I avoid losing my pension? - Why would anybody wait until age 70 to start their pension? This session will be of greatest value to those between the ages of 55 and 70 who are not yet receiving their pensions\, but it is open to anyone with an interest in this topic. There will be an opportunity to have your own questions regarding pensions answered.
X-ALT-DESC;FMTTYPE=text/html:- When should I begin taking Canada Pension Plan (CPP)? - When should I begin taking Old Age Security (OAS)? - How do I coordinate government pensions with my work pension or RRSP? - How do good health and poor health affect these decisions? - How are pensions affected by my other sources of taxable income? - What are the &ldquo\;OAS claw back&rdquo\; rules\, and how do I avoid losing my pension? - Why would anybody wait until age 70 to start their pension? This session will be of greatest value to those between the ages of 55 and 70 who are not yet receiving their pensions\, but it is open to anyone with an interest in this topic. There will be an opportunity to have your own questions regarding pensions answered.
LOCATION:Scotia Wealth Management Boardroom 1676 Martin Drive\, Suite 100\, White Rock
UID:e.749.10262
SEQUENCE:3
DTSTAMP:20260420T214243Z
URL:https://business.swrbot.com/events/details/cpp-and-oas-pensions-now-or-later-03-14-2019-10262
END:VEVENT

END:VCALENDAR
