BEGIN:VCALENDAR
VERSION:2.0
PRODID:-//ChamberMaster//Event Calendar 2.0//EN
METHOD:PUBLISH
X-PUBLISHED-TTL:P3D
REFRESH-INTERVAL:P3D
CALSCALE:GREGORIAN
BEGIN:VEVENT
DTSTART:20120713T170000Z
DTEND:20120713T230000Z
X-MICROSOFT-CDO-ALLDAYEVENT:FALSE
SUMMARY:Dams Ford Lincoln Sales/Galaxy Classic Car Club/Drive for The Cure Foundation
DESCRIPTION:Dams Ford Lincoln (Guildford) has partnered with Ford of Canada\, and the Galaxy Classic Car Club of Canada to support a unique fundraising event to be held at the Dams 104th dealership on July 14\, 2012.\n\n\n\n                Galaxy Club of Canada 10th Annual Car Show/Drive One for the Cure\n\n\n\nThis is a fantastic opportunity to explore great Ford and Lincoln from yesterday and today!\n\n\n\nAlong with a great collection of classic show cars and trucks for viewing\, these new 2013 model year vehicles will be available for a free test drive:\n\n\n\nFord Focus\, Ford Fiesta\, Ford Fusion\, Ford Escape\, Ford F150\, Lincoln MKX\, Lincoln MKS\, Lincoln MKT\n\n\n\nCome down to test-drive a new Ford or Lincoln vehicle at Dams\, and for every verified test drive made by a participant\, Ford of Canada will donate $20 for each test drive to a local\, registered non-profit\, community organization. The recipient of all funds for this year's event will be directed to Drive One for the Cure Foundation. There is no charge or obligation for this event\, and participation is voluntary.\n\n\n\nPlease note that this is not a sales event\, and is intended as a fund raising opportunity only. No solicitation will be permitted. All test-drive funds are donated by Ford of Canada.
X-ALT-DESC;FMTTYPE=text/html:<strong>Dams Ford Lincoln (Guildford)</strong> has partnered with <strong>Ford of Canada\, </strong>and the <strong>Galaxy Classic Car Club of Canada </strong>to support a unique fundraising event to be held at the Dams 104th dealership on July 14\, 2012.<br />\n<br />\n<strong>&nbsp\;&nbsp\;&nbsp\;&nbsp\;&nbsp\;&nbsp\;&nbsp\;&nbsp\;&nbsp\;&nbsp\;&nbsp\;&nbsp\;&nbsp\;&nbsp\;&nbsp\;&nbsp\;Galaxy Club of Canada 10th Annual Car Show/Drive One for the Cure</strong><br />\n<br />\nThis is a fantastic opportunity to explore&nbsp\;great&nbsp\;Ford and Lincoln&nbsp\;from yesterday and today!<br />\n<br />\nAlong with a great collection of classic show cars and trucks&nbsp\;for viewing\, these new 2013 model year vehicles will be available for a free test drive:<br />\n<br />\n<strong>Ford Focus\,&nbsp\;Ford Fiesta\,&nbsp\;Ford Fusion\,&nbsp\;Ford Escape\, Ford F150\, Lincoln MKX\, Lincoln MKS\, Lincoln MKT</strong><br />\n<br />\nCome down to test-drive a new Ford or Lincoln vehicle at Dams\, and for every verified test drive made by a participant\, <u><strong>Ford of Canada will donate $20 for each test drive</strong>&nbsp\;</u>to a local\, registered non-profit\, community organization. The recipient of all funds for this year&#39\;s event will be directed to&nbsp\;<strong>Drive One for the Cure Foundation</strong>. There is no charge&nbsp\;or obligation for this event\, and participation is voluntary.<br />\n<br />\n<strong>Please note that this is <u>not a sales event</u>\, and is intended as a fund raising opportunity only. No solicitation will be permitted. All test-drive funds are donated by Ford of Canada.</strong><br />\n<br />\n
LOCATION:Dams Ford Lincoln Sales Ltd. - 14530 104th Avenue\, Surrey B.C.
UID:e.749.2071
SEQUENCE:3
DTSTAMP:20260421T092009Z
URL:https://business.swrbot.com/events/details/dams-ford-lincoln-sales-galaxy-classic-car-club-drive-for-the-cure-foundation-07-13-2012-2071
END:VEVENT

END:VCALENDAR
