BEGIN:VCALENDAR
VERSION:2.0
PRODID:-//ChamberMaster//Event Calendar 2.0//EN
METHOD:PUBLISH
X-PUBLISHED-TTL:P3D
REFRESH-INTERVAL:P3D
CALSCALE:GREGORIAN
BEGIN:VEVENT
DTSTART:20140920T010000Z
DTEND:20140920T060000Z
X-MICROSOFT-CDO-ALLDAYEVENT:FALSE
SUMMARY:DARPAN Extraordinary Achievement Awards
DESCRIPTION:Celebrate the Extraordinary! An evening dedicated to South Asians who are making a difference. Nominate someone you know today at www.darpanmagazine.com
X-ALT-DESC;FMTTYPE=text/html:Celebrate the Extraordinary! An evening dedicated to South Asians who are making a difference. Nominate someone you know today at www.darpanmagazine.com
LOCATION:Royal King Palace Banquet and Convention Centre 8158 128 Street\, Surrey (Payal Business Centre)
UID:e.749.2662
SEQUENCE:3
DTSTAMP:20260425T163824Z
URL:https://business.swrbot.com/events/details/darpan-extraordinary-achievement-awards-09-19-2014-2662
END:VEVENT

END:VCALENDAR
