BEGIN:VCALENDAR
VERSION:2.0
PRODID:-//ChamberMaster//Event Calendar 2.0//EN
METHOD:PUBLISH
X-PUBLISHED-TTL:P3D
REFRESH-INTERVAL:P3D
CALSCALE:GREGORIAN
BEGIN:VEVENT
DTSTART;VALUE=DATE:20091202
DTEND;VALUE=DATE:20091203
TRANSP:TRANSPARENT
X-MICROSOFT-CDO-ALLDAYEVENT:TRUE
SUMMARY:Dec. 2\, '09 - Seasonal Sizzle
DESCRIPTION:
X-ALT-DESC;FMTTYPE=text/html:
LOCATION:
UID:e.749.1520
SEQUENCE:3
DTSTAMP:20260423T052622Z
URL:https://business.swrbot.com/events/details/dec-2-09-seasonal-sizzle-12-02-2009-1520
END:VEVENT

END:VCALENDAR
