BEGIN:VCALENDAR
VERSION:2.0
PRODID:-//ChamberMaster//Event Calendar 2.0//EN
METHOD:PUBLISH
X-PUBLISHED-TTL:P3D
REFRESH-INTERVAL:P3D
CALSCALE:GREGORIAN
BEGIN:VEVENT
DTSTART:20101202T010000Z
DTEND:20101202T040000Z
X-MICROSOFT-CDO-ALLDAYEVENT:FALSE
SUMMARY:December 1\, 2010 - Seasonal Sizzle
DESCRIPTION:Seasonal Sizzle 2010 Business Reception! This year's theme celebrates a Monte Carlo Christmas!! Win fabulous prises and make business contacts!  Over 500 people attend to establish business connections! For sponsorship opportunities contact Ruby Campbell at ruby@rubygroup.ca Venue Sponsor: Fraser Downs Racetrack and CasinoTrade Show Sponsor: Showtime Event & DisplayMedia Sponsor:  The Now Newspaper
X-ALT-DESC;FMTTYPE=text/html:<div><strong>Seasonal Sizzle 2010 Business Reception!</strong></div><div>&nbsp\;</div><div>This year&rsquo\;s theme celebrates a Monte Carlo Christmas!!</div><div>&nbsp\;</div><div>Win fabulous prises and&nbsp\;make business contacts!&nbsp\; Over 500 people attend to establish business connections!</div><div>&nbsp\;</div><div>For sponsorship opportunities contact Ruby Campbell at <a href="mailto:ruby@rubygroup.ca">ruby@rubygroup.ca</a></div><div>&nbsp\;</div><div><strong>Venue Sponsor:&nbsp\;</strong>Fraser Downs Racetrack and Casino</div><div><strong>Trade Show&nbsp\;Sponsor:&nbsp\;</strong>Showtime Event &amp\;&nbsp\;Display</div><div><strong>Media Sponsor:&nbsp\;</strong>&nbsp\;The Now&nbsp\;Newspaper&nbsp\;</div>
LOCATION:Fraser Downs Racetrack and Casino (17755 60 Avenue\, Surrey)
UID:e.749.1637
SEQUENCE:3
DTSTAMP:20260424T082826Z
URL:https://business.swrbot.com/events/details/december-1-2010-seasonal-sizzle-12-01-2010-1637
END:VEVENT

END:VCALENDAR
