BEGIN:VCALENDAR
VERSION:2.0
PRODID:-//ChamberMaster//Event Calendar 2.0//EN
METHOD:PUBLISH
X-PUBLISHED-TTL:P3D
REFRESH-INTERVAL:P3D
CALSCALE:GREGORIAN
BEGIN:VEVENT
DTSTART:20171201T153000Z
DTEND:20171201T183000Z
X-MICROSOFT-CDO-ALLDAYEVENT:FALSE
SUMMARY:December 1\, 2017 - Development Industry Forum
DESCRIPTION:p.p1 {margin: 0.0px 0.0px 0.0px 0.0px\; font: 12.0px 'Univers LT Std'\; color: #808183}\np.p2 {margin: 0.0px 0.0px 0.0px 0.0px\; font: 12.0px 'Univers LT Std'\; color: #808183\; min-height: 14.0px}\n\nThe Surrey Board of Trade invites developers\, contractors\, architects\, engineers\, and business leaders to take part in a development industry forum encouraging investment in Surrey and reducing red tape for development.\n\n\n\nHear from the City of Surrey on recent and upcoming changes. Participate in a collaborative dialogue to ensure Surrey continues to be the best place to invest in.\n\n\n\nSpeakers:\n\nSurrey Mayor Linda Hepner\n\nJean Lamontagne\, Manager\, Planning and Development City of Surrey \n\nFraser Smith\, Manager\, Engineering of City of Surrey\n\n\n\np.p1 {margin: 0.0px 0.0px 0.0px 0.0px\; font: 12.0px 'Univers LT Std'\; color: #808183}\np.p2 {margin: 0.0px 0.0px 0.0px 18.0px\; text-indent: -18.0px\; font: 12.0px 'Univers LT Std'\; color: #8081\n\n\n\nAgenda:\n\n\n	Overview by City of Surrey on Continuous Improvement on Development\n	Light Rail Transit & Development\n	The Future Surrey Skyline\n	Dialogue
X-ALT-DESC;FMTTYPE=text/html:<div style="text-align: justify\;">\n<style type="text/css">p.p1 {margin: 0.0px 0.0px 0.0px 0.0px\; font: 12.0px 'Univers LT Std'\; color: #808183}\np.p2 {margin: 0.0px 0.0px 0.0px 0.0px\; font: 12.0px 'Univers LT Std'\; color: #808183\; min-height: 14.0px}\n</style>\n<p class="p1"><span style="font-size:12px\;"><span style="font-family:arial\;"><span style="color:#000000\;">The Surrey Board of Trade invites developers\, contractors\, architects\, engineers\, and business leaders to take part in a development industry forum encouraging investment in Surrey and reducing red tape for development.</span></span></span><br />\n<br />\n<span style="font-size:12px\;"><span style="font-family:arial\;"><span style="color:#000000\;">Hear from the City of Surrey on recent and upcoming changes. Participate in a collaborative dialogue to ensure Surrey continues to be the best place to invest in.</span></span></span><br />\n<br />\n<strong><span style="background:white\;"><span style="color:#222222\;"><span style="font-family:calibri\;"><span style="font-size:10.0pt\;">Speakers:</span></span></span></span></strong><br />\n<span style="background:white\;"><span style="color:#222222\;"><span style="font-family:calibri\;"><span style="font-size:10.0pt\;">Surrey Mayor Linda Hepner</span></span></span></span><br />\n<span style="color:black\;"><span style="font-family:calibri\;"><span style="font-size:10.0pt\;">Jean Lamontagne\, Manager\, Planning and Development City of Surrey </span></span></span><br />\n<span style="color:black\;"><span style="font-family:calibri\;"><span style="font-size:10.0pt\;">Fraser Smith\, Manager\, Engineering of City of Surrey</span></span></span><br />\n<br />\n<style type="text/css">p.p1 {margin: 0.0px 0.0px 0.0px 0.0px\; font: 12.0px 'Univers LT Std'\; color: #808183}\np.p2 {margin: 0.0px 0.0px 0.0px 18.0px\; text-indent: -18.0px\; font: 12.0px 'Univers LT Std'\; color: #8081\n</style>\n<br />\n<span style="font-size:12px\;"><span style="font-family:arial\;"><span style="color:#000000\;"><b>Agenda:</b></span></span></span></p>\n\n<ol>\n	<li class="p2"><span style="font-size:12px\;">Overview by City of Surrey on Continuous Improvement on Development</span></li>\n	<li class="p2"><span style="font-size:12px\;">Light Rail Transit &amp\; Development</span></li>\n	<li class="p2"><span style="font-size:12px\;">The Future Surrey Skyline</span></li>\n	<li class="p2"><span style="font-size:12px\;">Dialogue</span></li>\n</ol>\n</div>\n
LOCATION:Sheraton Vancouver Guildford Hotel 15269 104 Ave\, Surrey
UID:e.749.5558
SEQUENCE:3
DTSTAMP:20260421T164142Z
URL:https://business.swrbot.com/events/details/december-1-2017-development-industry-forum-12-01-2017-5558
END:VEVENT

END:VCALENDAR
