BEGIN:VCALENDAR
VERSION:2.0
PRODID:-//ChamberMaster//Event Calendar 2.0//EN
METHOD:PUBLISH
X-PUBLISHED-TTL:P3D
REFRESH-INTERVAL:P3D
CALSCALE:GREGORIAN
BEGIN:VEVENT
DTSTART:20131210T160000Z
DTEND:20131210T180000Z
X-MICROSOFT-CDO-ALLDAYEVENT:FALSE
SUMMARY:December 10\, 2013 - HR for Your Business - PT 2 Recruitment
DESCRIPTION:Human Resources for Your Business\n\nA workshop series\n\n\n\nPart 2\n\nTopic: Recruitment and New Employee Orientation - Recognize the process of attracting\, screening and selecting key talent for your business.  Learn how an effective orientation program can support your recruitment efforts\, reduce staff turnover\, increase productivity and boost moral.
X-ALT-DESC;FMTTYPE=text/html:<strong>Human Resources for Your Business</strong><br />\nA workshop series<br />\n<br />\n<strong>Part 2<br />\nTopic: Recruitment and New Employee Orientation - </strong>Recognize the process of attracting\, screening and selecting key talent for your business.&nbsp\; Learn how an effective orientation program can support your recruitment efforts\, reduce staff turnover\, increase productivity and boost moral.<br />\n
LOCATION:Surrey Board of Trade Conference Room #101 - 14439 104th Ave Surrey\, BC
UID:e.749.2378
SEQUENCE:3
DTSTAMP:20260426T034044Z
URL:https://business.swrbot.com/events/details/december-10-2013-hr-for-your-business-pt-2-recruitment-12-10-2013-2378
END:VEVENT

END:VCALENDAR
