BEGIN:VCALENDAR
VERSION:2.0
PRODID:-//ChamberMaster//Event Calendar 2.0//EN
METHOD:PUBLISH
X-PUBLISHED-TTL:P3D
REFRESH-INTERVAL:P3D
CALSCALE:GREGORIAN
BEGIN:VEVENT
DTSTART:20161213T193000Z
DTEND:20161213T213000Z
X-MICROSOFT-CDO-ALLDAYEVENT:FALSE
SUMMARY:December 13\, 2016 - Surrey Transportation Leadership Lunch
DESCRIPTION:Join us as we discuss the development of transit and transportation in Surrey\, the Metro Vancouver region\, and BC. \n\n\n	The Hon. Peter Fassbender\, Minister of Community\, Sport and Cultural Development and Minister Responsible for TransLink will provide us with an update on his portfolio. We will also provide an update on the portfolio of the Ministry of Transportation as it relates to Surrey and the surrounding areas. \n	Her Worship Linda Hepner\, Mayor\, City of Surrey and Vice-Chair\, Mayor's Council on Regional Transportation\, will discuss Surrey's transportation needs and plans\, including Light Rail Transit (LRT) in Surrey. She will also provide an update from the Mayors' Council on Regional Transportation.\n\n\nBring your questions and suggestions to this lively lunch dialogue.
X-ALT-DESC;FMTTYPE=text/html:<div><span style="font-family:arial\,helvetica\,sans-serif"><font size="2">Join us as we discuss the development of transit and transportation in Surrey\, the Metro Vancouver region\, and BC. </font></span>\n\n<ol>\n	<li><span style="font-family:arial\,helvetica\,sans-serif"><font size="2"><b>The Hon. Peter Fassbender</b>\, Minister of Community\, Sport and Cultural Development and Minister Responsible for TransLink will provide us with an update on his portfolio. We will also provide an update on the portfolio of the Ministry of Transportation as it relates to Surrey and the surrounding areas. </font></span></li>\n	<li><span style="font-family:arial\,helvetica\,sans-serif"><font size="2"><b>Her Worship Linda Hepner\,</b> Mayor\, City of Surrey and Vice-Chair\, Mayor&#39\;s Council on Regional Transportation\, will discuss </font></span>Surrey&#39\;s transportation needs and plans\, including Light Rail Transit (LRT) in Surrey. She will also provide an update from the Mayors&#39\; Council on Regional Transportation.</li>\n</ol>\n\n<div><span style="font-family:arial\,helvetica\,sans-serif"><font size="2">Bring your questions and suggestions to this lively lunch dialogue.</font></span></div>\n</div>\n
LOCATION:Sheraton Vancouver Guildford Hotel (15269 104 Avenue\, Surrey
UID:e.749.5152
SEQUENCE:3
DTSTAMP:20260422T071144Z
URL:https://business.swrbot.com/events/details/december-13-2016-surrey-transportation-leadership-lunch-12-13-2016-5152
END:VEVENT

END:VCALENDAR
