BEGIN:VCALENDAR
VERSION:2.0
PRODID:-//ChamberMaster//Event Calendar 2.0//EN
METHOD:PUBLISH
X-PUBLISHED-TTL:P3D
REFRESH-INTERVAL:P3D
CALSCALE:GREGORIAN
BEGIN:VEVENT
DTSTART:20131204T010000Z
DTEND:20131204T040000Z
X-MICROSOFT-CDO-ALLDAYEVENT:FALSE
SUMMARY:December 3\, 2013 - Seasonal Sizzle
DESCRIPTION:Surrey Board of Trade Seasonal Sizzle Business Reception!\n\nTheme: A Christmas Carnival!\n\n\n\nOver 500 guests attend this event each year! Come out to meet new people and learn more about our fabulous exhibitors - before you leave for the holidays!\n\n\n\nExhibitor space is available - contact Brianne Colbert at brianne@businessinsurrey.com or 604-634-0347\n\n$500 + GST for one booth
X-ALT-DESC;FMTTYPE=text/html:Surrey Board of Trade Seasonal Sizzle Business Reception!<br />\nTheme: A Christmas Carnival!<br />\n<br />\nOver 500 guests attend this event each year! Come out to meet new people and learn more about our fabulous exhibitors - before you leave for the holidays!<br />\n<br />\nExhibitor space is available - contact Brianne Colbert at brianne@businessinsurrey.com or 604-634-0347<br />\n$500 + GST for one booth<br />\n<br />\n
LOCATION:Eaglequest Golf Course 7778 152 Street\, Surrey Parking As we're expecting an even larger crowd this year\, we've made arrangements for additional parking. When the Eaglequest Golf Course lot is FULL\, you can find additional parking directly across the street at Guildford Golf Club (7929 152 Street) look for the "SURREY BOARD OF TRADE SHUTTLE" sign. A Park 'N Fly SHUTTLE will be available every 7-8 minutes to take you from a covered waiting area to the event! The Park 'N Fly Shuttle will run from 5:15 p.m. 8:30 p.m.
UID:e.749.2257
SEQUENCE:3
DTSTAMP:20260426T033841Z
URL:https://business.swrbot.com/events/details/december-3-2013-seasonal-sizzle-12-03-2013-2257
END:VEVENT

END:VCALENDAR
