BEGIN:VCALENDAR
VERSION:2.0
PRODID:-//ChamberMaster//Event Calendar 2.0//EN
METHOD:PUBLISH
X-PUBLISHED-TTL:P3D
REFRESH-INTERVAL:P3D
CALSCALE:GREGORIAN
BEGIN:VEVENT
DTSTART:20141204T010000Z
DTEND:20141204T040000Z
X-MICROSOFT-CDO-ALLDAYEVENT:FALSE
SUMMARY:December 3\, 2014 - Seasonal Sizzle Trade Show and Networking Reception
DESCRIPTION:Seasonal Sizzle Trade Show and Networking Reception\n\nA Rock 'N Roll Christmas!\n\n\n\n\n\nAdmission is by cash or food donation to the Surrey Food Bank.\n\n\n\nTo confirm your exhibitor booth\, contact Brianne Colbert at brianne@businessinsurrey.com or 604-581-7130\n\n\n\nOver 500 people attend this event annually!
X-ALT-DESC;FMTTYPE=text/html:Seasonal Sizzle Trade Show and Networking Reception<br />\nA Rock &#39\;N Roll Christmas!<br />\n<br />\n<br />\nAdmission is by cash or food donation to the Surrey Food Bank.<br />\n<br />\nTo confirm your exhibitor booth\, contact Brianne Colbert at brianne@businessinsurrey.com or 604-581-7130<br />\n<br />\nOver 500 people attend this event annually!
LOCATION:Eaglequest Golf Course 7778 152 St Surrey\, BC
UID:e.749.2589
SEQUENCE:3
DTSTAMP:20260425T124134Z
URL:https://business.swrbot.com/events/details/december-3-2014-seasonal-sizzle-trade-show-and-networking-reception-12-03-2014-2589
END:VEVENT

END:VCALENDAR
