BEGIN:VCALENDAR
VERSION:2.0
PRODID:-//ChamberMaster//Event Calendar 2.0//EN
METHOD:PUBLISH
X-PUBLISHED-TTL:P3D
REFRESH-INTERVAL:P3D
CALSCALE:GREGORIAN
BEGIN:VEVENT
DTSTART:20131205T160000Z
DTEND:20131205T180000Z
X-MICROSOFT-CDO-ALLDAYEVENT:FALSE
SUMMARY:December 5\, 2013 - 5 Strategies to Double Your Productivity
DESCRIPTION:5 Strategies to Double Your Productivity\n\n\n\nAre you working at capacity with your work load increasing every day?  This workshop is filled with strategies and tactics that will allow you to double your productivity overnight!\n\n\n\nAttend this productivity workshop to:\n\n	\n		Be effective\, not just efficient\n	\n		Learn how to apply Pareto's Law to reduce your work load\n	\n		Easily prioritize your tasks\n	\n		Handle projects without stress\n	\n		Conduct a work flow analysis to improve efficiencies\n\nPresented by Tony Malyk\, Certified Professional Business Coach.\n\nAll attendees will receive a free gift from the Presenter!
X-ALT-DESC;FMTTYPE=text/html:<span style="font-size:12px\;"><strong>5 Strategies to Double Your Productivity</strong></span><br />\n<br />\nAre you working at capacity with your work load increasing every day?&nbsp\; This workshop is filled with strategies and tactics that will allow you to double your productivity overnight!<br />\n<br />\nAttend this productivity workshop to:\n<ol>\n	<li>\n		<strong>Be effective\, not just efficient</strong></li>\n	<li>\n		<strong>Learn how to apply Pareto&#39\;s Law to reduce your work load</strong></li>\n	<li>\n		<strong>Easily prioritize your tasks</strong></li>\n	<li>\n		<strong>Handle projects without stress</strong></li>\n	<li>\n		<strong>Conduct a work flow analysis to improve efficiencies</strong></li>\n</ol>\nPresented by Tony Malyk\, Certified Professional Business Coach.<br />\nAll attendees will receive a free gift from the Presenter!<br />\n
LOCATION:Surrey Board of Trade Conference Room 101 - 14439 104th Ave Surrey\, BC
UID:e.749.2386
SEQUENCE:3
DTSTAMP:20260426T034202Z
URL:https://business.swrbot.com/events/details/december-5-2013-5-strategies-to-double-your-productivity-12-05-2013-2386
END:VEVENT

END:VCALENDAR
