BEGIN:VCALENDAR
VERSION:2.0
PRODID:-//ChamberMaster//Event Calendar 2.0//EN
METHOD:PUBLISH
X-PUBLISHED-TTL:P3D
REFRESH-INTERVAL:P3D
CALSCALE:GREGORIAN
BEGIN:VEVENT
DTSTART:20191205T163000Z
DTEND:20191205T233000Z
X-MICROSOFT-CDO-ALLDAYEVENT:FALSE
SUMMARY:December 5\, 2019 - Incoterms® 2020 Training Presented by SBOT
DESCRIPTION:The Surrey Board of Trade has partnered with the Forum for International Trade Training (FITT)\, and the Canadian Chamber of Commerce to bring you training on the newly released Incoterms  2020.\n\n \n\nWhat Are Incoterms  Rules?\n\nICC?s Incoterms  rules are the world?s essential terms of trade for the trade of goods. Whether you are filing a purchase order\, packaging and labelling a shipment for freight transport or preparing a certificate of origin at a port\, the Incoterms  rules are there to guide you on the costs\, risks and obligations for your business. Incoterms 2020 will be introduced in January 2020.\n\n\n\nTraining \n\nThis one day course will provide a comprehensive overview of the new 2020 version of the terms and the differences between the 2010 version. The Incoterms  2020 course offered by the Surrey Board of Trade and FITT will be the only in-class training in Canada that is done by trainers who are officially recognized by the International Chamber of Commerce.\n\n\n\nWho should attend: \n\nThis course is mainly designed for companies in the following sectors:\n\n\n	\n	Import / Export\n	\n	\n	Legal\n	\n	\n	International Trade Consulting\n	\n	\n	Banking\n	\n	\n	Financial Services\n	\n	\n	Accounting\n	\n	\n	Freight Forwarding\n	\n\n\n\n\n Incoterms  2020 Training (Canada Launch)\n\nThe International Chamber of Commerce Incoterms  rules are the world's essential terms of trade for the sale of goods. Incoterms  are used in contracts to clearly communicate the obligations\, costs\, and risks associated with the transportation and delivery of goods. This guidance provides clarity for sellers and buyers and helps facilitate trade. This Incoterms  2020 Training course is designed to help exporters\, importers\, sales staff\, contract experts\, shipping and receiving personnel\, trade finance specialists\, trade compliance managers\, and other supply-chain professionals gain an understanding of the latest edition of the Incoterms  rules (which come into effect on 1 January 2020). The course will provide background\, detail of Incoterms  2020 Definitions/Rules and Obligations\, and detail the main changes that are taking effect.\n\n\n\nCompanies and professionals attending the session will be able to:\n\n          Understand how to properly incorporate Incoterms  2020 into pro forma invoices and sales contracts\n\n          Identify corporate sales strategies that lower risks and costs\n\n          Identify the correct Incoterms  2020 rule for specific transactions\n\n          Determine the obligations\, risks and costs for both sellers and buyers\n\n          Avoid common errors when using Incoterms\n\n          Use Incoterms to the company's advantage\n\n \n\nThis professional training is excellent for beginners and will also serve as an in-depth refresher with important updates for experienced professionals.\n\n\n\n***Registration fees include breakfast & lunch\, all participant reference materials and an ICC Incoterms  2020 e-book. Participants will write an exam at the end of the course and receive a certificate upon successful completion. \n\n\n\nIMPORTANT NOTE: As a registrant\, you will be required to fill out a separate registration form that will collect additional information from you. Please expect a member of our staff to be in touch with you once you've registered. \np.p1 {margin: 0.0px 0.0px 0.0px 0.0px\; font: 12.0px 'Univers LT Std'\; min-height: 14.0px}\np.p2 {margin: 0.0px 0.0px 0.0px 0.0px\; line-height: 12.1px\; font: 11.5px 'Univers LT Std'\; color: #2c2728}\np.p3 {margin: 0.0px 0.0px 0.0px 0.0px\; line-height: 12.1px\; font: 11.0px 'Univers LT Std'\; color: #2c2728}\np.p4 {margin: 0.0px 0.0px 0.0px 0.0px\; font: 11.0px 'Univers LT Std'\; color: #2c2728}\np.p5 {margin: 0.0px 0.0px 0.0px 0.0px\; font: 11.0px 'Univers LT Std'\; color: #2c2728\; min-height: 13.0px}\nspan.s1 {font: 12.0px 'Univers LT Std'\; color: #000000}
X-ALT-DESC;FMTTYPE=text/html:<p><span style="font-size:12px\;">The Surrey Board of Trade has partnered with the Forum for International Trade Training (FITT)\, and the Canadian Chamber of Commerce to bring you training on the newly released <a data-saferedirecturl="https://www.google.com/url?q=https://businessinsurrey.com/international/incoterms-2020/&amp\;source=gmail&amp\;ust=1571768206438000&amp\;usg=AFQjCNHRSYm8SuMp3OhNklMiHhimwE2Oxg" href="https://businessinsurrey.com/international/incoterms-2020/" target="_blank">Incoterms&reg\; 2020</a>.</span></p>\n\n<p class="p1">&nbsp\;</p>\n\n<p class="p2"><span style="font-size:12px\;"><b>What Are Incoterms&reg\; Rules?</b></span></p>\n\n<p class="p3"><span style="font-size:12px\;">ICC?s Incoterms&reg\; rules are the world?s essential terms of trade for the trade of goods. Whether you are filing a purchase order\, packaging and labelling a shipment for freight transport or preparing a certificate of origin at a port\, the Incoterms&reg\; rules are there to guide you on the costs\, risks and obligations for your business. Incoterms&reg\;2020 will be introduced in January 2020.</span></p>\n\n<p class="p2"><br />\n<span style="font-size:12px\;"><b>Training </b></span></p>\n\n<p class="p3"><span style="font-size:12px\;">This one day course will provide a comprehensive overview of the new 2020 version of the terms and the differences between the 2010 version. The Incoterms&reg\; 2020 course offered by the Surrey Board of Trade and FITT will be the only in-class training in Canada that is done by trainers who are officially recognized by the International Chamber of Commerce.</span></p>\n\n<p class="p2"><br />\n<span style="font-size:12px\;"><b>Who should attend: </b></span></p>\n\n<p class="p3"><span style="font-size:12px\;">This course is mainly designed for companies in the following sectors:</span></p>\n\n<ul>\n	<li class="p4">\n	<p><span style="font-size:12px\;">Import / Export</span></p>\n	</li>\n	<li class="p4">\n	<p><span style="font-size:12px\;">Legal</span></p>\n	</li>\n	<li class="p4">\n	<p><span style="font-size:12px\;">International Trade Consulting</span></p>\n	</li>\n	<li class="p4">\n	<p><span style="font-size:12px\;">Banking</span></p>\n	</li>\n	<li class="p5">\n	<p><span style="font-size:12px\;">Financial Services</span></p>\n	</li>\n	<li class="p4">\n	<p><span style="font-size:12px\;">Accounting</span></p>\n	</li>\n	<li class="p4">\n	<p><span style="font-size:12px\;">Freight Forwarding</span></p>\n	</li>\n</ul>\n\n<p><br />\n<span style="font-size:12px\;">&nbsp\;<strong><em><span style="font-family:calibri\,sans-serif\;">Incoterms&reg\; 2020 Training (Canada Launch)</span></em></strong><br />\n<em><span style="font-family:calibri\,sans-serif\;">The International Chamber of Commerce Incoterms<sup>&reg\;</sup>&nbsp\;rules are the world&rsquo\;s essential terms of trade for the sale of goods. Incoterms<strong><sup>&reg\;</sup></strong>&nbsp\;are used in contracts to clearly communicate the obligations\, costs\, and risks associated with the transportation and delivery of goods. This guidance provides clarity for sellers and buyers and helps facilitate trade.&nbsp\;This Incoterms<strong><sup>&reg\;</sup></strong>&nbsp\;2020 Training course is designed to help exporters\, importers\, sales staff\, contract experts\, shipping and receiving personnel\, trade finance specialists\, trade compliance managers\, and other supply-chain professionals gain an understanding of the latest edition of the Incoterms<strong><sup>&reg\;</sup></strong>&nbsp\;rules (which come into effect on 1 January 2020). The course will provide background\, detail of&nbsp\;Incoterms<sup>&reg\;&nbsp\;</sup>2020 Definitions/Rules and Obligations\, and detail the main changes that are taking effect.</span></em><br />\n<br />\n<strong><span style="font-family:calibri\,sans-serif\;">Companies and professionals attending the session will be able to:</span></strong><br />\n<span style="font-family:symbol\;">&middot\;&nbsp\;&nbsp\;&nbsp\;&nbsp\;&nbsp\;&nbsp\;&nbsp\;&nbsp\;&nbsp\;</span><em><span style="font-family:calibri\,sans-serif\;">Understand how to properly incorporate Incoterms<sup>&reg\;</sup>&nbsp\;2020 into pro forma invoices and sales contracts</span></em><br />\n<span style="font-family:symbol\;">&middot\;&nbsp\;&nbsp\;&nbsp\;&nbsp\;&nbsp\;&nbsp\;&nbsp\;&nbsp\;&nbsp\;</span><em><span style="font-family:calibri\,sans-serif\;">Identify corporate sales strategies that lower risks and costs</span></em><br />\n<span style="font-family:symbol\;">&middot\;&nbsp\;&nbsp\;&nbsp\;&nbsp\;&nbsp\;&nbsp\;&nbsp\;&nbsp\;&nbsp\;</span><em><span style="font-family:calibri\,sans-serif\;">Identify the correct Incoterms<strong><sup><span style="border:1pt none windowtext\;padding:0cm\;">&reg\;</span></sup></strong>&nbsp\;2020 rule for specific transactions</span></em><br />\n<span style="font-family:symbol\;">&middot\;&nbsp\;&nbsp\;&nbsp\;&nbsp\;&nbsp\;&nbsp\;&nbsp\;&nbsp\;&nbsp\;</span><em><span style="font-family:calibri\,sans-serif\;">Determine the obligations\, risks and costs for both sellers and buyers</span></em><br />\n<span style="font-family:symbol\;">&middot\;&nbsp\;&nbsp\;&nbsp\;&nbsp\;&nbsp\;&nbsp\;&nbsp\;&nbsp\;&nbsp\;</span><em><span style="font-family:calibri\,sans-serif\;">Avoid common errors when using Incoterms</span></em><br />\n<span style="font-family:symbol\;">&middot\;&nbsp\;&nbsp\;&nbsp\;&nbsp\;&nbsp\;&nbsp\;&nbsp\;&nbsp\;&nbsp\;</span><em><span style="font-family:calibri\,sans-serif\;">Use Incoterms to the company&rsquo\;s advantage</span></em><br />\n&nbsp\;<br />\n<em><span style="color:black\;">This professional training is excellent for beginners and will also serve as an in-depth refresher with important updates for experienced professionals.</span></em><br />\n<br />\n<span style="font-family:arial\;"><span style="letter-spacing: 0.5px\;">***Registration fees include breakfast &amp\; lunch\, all participant reference materials and an ICC Incoterms&reg\; 2020 e-book. Participants will write an exam at the end of the course and receive a certificate upon successful completion.&nbsp\;</span></span><br />\n<br />\n<strong>IMPORTANT NOTE: As a registrant\, you will be required to fill out a separate registration form that will collect additional information from you. Please expect a member of our staff to be in touch with you once you&#39\;ve registered.&nbsp\;</strong></span></p>\n<style type="text/css">p.p1 {margin: 0.0px 0.0px 0.0px 0.0px\; font: 12.0px 'Univers LT Std'\; min-height: 14.0px}\np.p2 {margin: 0.0px 0.0px 0.0px 0.0px\; line-height: 12.1px\; font: 11.5px 'Univers LT Std'\; color: #2c2728}\np.p3 {margin: 0.0px 0.0px 0.0px 0.0px\; line-height: 12.1px\; font: 11.0px 'Univers LT Std'\; color: #2c2728}\np.p4 {margin: 0.0px 0.0px 0.0px 0.0px\; font: 11.0px 'Univers LT Std'\; color: #2c2728}\np.p5 {margin: 0.0px 0.0px 0.0px 0.0px\; font: 11.0px 'Univers LT Std'\; color: #2c2728\; min-height: 13.0px}\nspan.s1 {font: 12.0px 'Univers LT Std'\; color: #000000}\n</style>\n
LOCATION:Surrey Board of Trade Conference Room (14439 104 Ave\, Surrey\, BC)
UID:e.749.10725
SEQUENCE:3
DTSTAMP:20260420T094413Z
URL:https://business.swrbot.com/events/details/december-5-2019-incoterms-2020-training-presented-by-sbot-12-05-2019-10725
END:VEVENT

END:VCALENDAR
