BEGIN:VCALENDAR
VERSION:2.0
PRODID:-//ChamberMaster//Event Calendar 2.0//EN
METHOD:PUBLISH
X-PUBLISHED-TTL:P3D
REFRESH-INTERVAL:P3D
CALSCALE:GREGORIAN
BEGIN:VEVENT
DTSTART:20161206T154500Z
DTEND:20161206T180000Z
X-MICROSOFT-CDO-ALLDAYEVENT:FALSE
SUMMARY:December 6\, 2016 - Managing Accounts Receivables and Maximizing Collections Workshop
DESCRIPTION:Collections strategies and tips for trade creditors\, business owners and lenders. This presentation will help you identify best practices for managing accounts receivable and maximizing collections.\n\n \nThis workshop is presented by McQuarrie Hunter LLP.
X-ALT-DESC;FMTTYPE=text/html:<span style="color:black">Collections strategies and tips for trade creditors\, business owners and lenders. This presentation will help you identify best practices for managing accounts receivable and maximizing collections.</span><br />\n&nbsp\;\n<div><span style="color:black"><i><b>This workshop is presented by McQuarrie Hunter LLP.</b></i></span></div>\n
LOCATION:Surrey Board of Trade Conference Room (101-14439 104 Avenue\, Surrey)
UID:e.749.5147
SEQUENCE:3
DTSTAMP:20260422T071143Z
URL:https://business.swrbot.com/events/details/december-6-2016-managing-accounts-receivables-and-maximizing-collections-workshop-12-06-2016-5147
END:VEVENT

END:VCALENDAR
