BEGIN:VCALENDAR
VERSION:2.0
PRODID:-//ChamberMaster//Event Calendar 2.0//EN
METHOD:PUBLISH
X-PUBLISHED-TTL:P3D
REFRESH-INTERVAL:P3D
CALSCALE:GREGORIAN
BEGIN:VEVENT
DTSTART:20161208T010000Z
DTEND:20161208T040000Z
X-MICROSOFT-CDO-ALLDAYEVENT:FALSE
SUMMARY:December 7\, 2016 - Seasonal Sizzle
DESCRIPTION:Join us at our annual Seasonal Sizzle Business Reception! \n\nChristmas in Paradise!\n\n\n	Win fabulous prizes and make business contacts!\n	Over 500 people attend to establish business connections.\n	Admission is by donation to the Surrey Food Bank.\n\n\n\nExhibitor opportunities available!\n\nBe a part of this exciting trade show! Showcase your product or service to over 500 people!\n\n\n	Exhibitor space (8? x 6?) and one 6? table.\n	Company name listed in event advertising and on the Surrey Board of Trade's website: businessinsurrey.com\n	Attendees are asked to go to each display to enter for prizes through a formal 'passport game'\, ensuring many visitors to your space.\n\n Investment: $575 + tax\n\n\n\nContact our events department:\n\nHeather Booth at 604.634.0341 or heather@businessinsurrey.com\n\n\n\nNeed to book a room for the evening? The Sheraton is offering 20% off their  best available on-line rate to anyone needing accommodation.\n\n\n\nSheraton Vancouver Guildford Hotel ? Book Now! - http://www.sheratonguildford.com/set-cat-20\\
X-ALT-DESC;FMTTYPE=text/html:<span style="font-size:16px\;"><span style="font-family: arial\;"><strong>Join us at our annual Seasonal Sizzle Business Reception! </strong><br />\n<strong><span style="color: rgb(255\, 0\, 0)\;">C</span><span style="color: rgb(0\, 128\, 0)\;">h</span><span style="color: rgb(255\, 0\, 0)\;">r</span><span style="color: rgb(0\, 128\, 0)\;">i</span><span style="color: rgb(255\, 0\, 0)\;">s</span><span style="color: rgb(0\, 128\, 0)\;">t</span><span style="color: rgb(255\, 0\, 0)\;">m</span><span style="color: rgb(0\, 128\, 0)\;">a</span><span style="color: rgb(255\, 0\, 0)\;">s</span> <span style="color: rgb(0\, 128\, 0)\;">i</span><span style="color: rgb(255\, 0\, 0)\;">n</span> <span style="color: rgb(0\, 128\, 0)\;">P</span><span style="color: rgb(255\, 0\, 0)\;">a</span><span style="color: rgb(0\, 128\, 0)\;">r</span><span style="color: rgb(255\, 0\, 0)\;">a</span><span style="color: rgb(0\, 128\, 0)\;">d</span><span style="color: rgb(255\, 0\, 0)\;">i</span><span style="color: rgb(0\, 128\, 0)\;">s</span><span style="color: rgb(255\, 0\, 0)\;">e</span><span style="color: rgb(0\, 128\, 0)\;">!</span></strong></span></span>\n\n<ul>\n	<li><span style="font-family:arial\;"><span style="font-size: 12px\;">Win fabulous prizes and make business contacts!</span></span></li>\n	<li><span style="font-family:arial\;"><span style="font-size: 12px\;">Over 500 people attend to establish business connections.</span></span></li>\n	<li><span style="font-family:arial\;"><span style="font-size: 12px\;">Admission is by donation to the Surrey Food Bank.</span></span></li>\n</ul>\n<br />\n<span style="font-family:arial\;"><span style="font-size: 12px\;"><strong>Exhibitor opportunities available!</strong><br />\nBe a part of this exciting trade show! Showcase your product or service to over 500 people!</span></span>\n\n<ul>\n	<li><span style="font-family:arial\;"><span style="font-size: 12px\;">Exhibitor space (8? x 6?) and one 6? table.</span></span></li>\n	<li><span style="font-family:arial\;"><span style="font-size: 12px\;">Company name listed in event advertising and on the Surrey Board of Trade&#39\;s website: businessinsurrey.com</span></span></li>\n	<li><span style="font-family:arial\;"><span style="font-size: 12px\;">Attendees are asked to go to each display to enter for prizes through a formal &#39\;passport game&#39\;\, ensuring many visitors to your space.</span></span></li>\n</ul>\n<span style="font-family:arial\;"><span style="font-size: 12px\;"> <em>Investment: $575 + tax</em><br />\n<br />\nContact our events department:<br />\nHeather Booth at 604.634.0341 or <a href="mailto:heather@businessinsurrey.com">heather@businessinsurrey.com</a><br />\n<br />\nNeed to book a room for the evening? The Sheraton is offering 20% off their&nbsp\;<span style="color: rgb(31\, 73\, 125)\;"> best available on-line rate to anyone needing accommodation.</span><br />\n<br />\n<span style="color: rgb(31\, 73\, 125)\;">Sheraton Vancouver Guildford Hotel ? Book Now! </span>- <a data-saferedirecturl="https://www.google.com/url?hl=en&amp\;q=http://www.sheratonguildford.com/set-cat-20/&amp\;source=gmail&amp\;ust=1479409493770000&amp\;usg=AFQjCNFmh3syxK71uHcytt4le7koh6thbQ" href="http://www.sheratonguildford.com/set-cat-20/" target="_blank">http://www.sheratonguildford.<wbr />com/set-cat-20\\</a></span></span><br />\n&nbsp\;
LOCATION:Sheraton Vancouver Guildford Hotel 15269 104 Avenue\, Surrey
UID:e.749.3750
SEQUENCE:3
DTSTAMP:20260422T071039Z
URL:https://business.swrbot.com/events/details/december-7-2016-seasonal-sizzle-12-07-2016-3750
END:VEVENT

END:VCALENDAR
