BEGIN:VCALENDAR
VERSION:2.0
PRODID:-//ChamberMaster//Event Calendar 2.0//EN
METHOD:PUBLISH
X-PUBLISHED-TTL:P3D
REFRESH-INTERVAL:P3D
CALSCALE:GREGORIAN
BEGIN:VEVENT
DTSTART:20171207T154500Z
DTEND:20171207T180000Z
X-MICROSOFT-CDO-ALLDAYEVENT:FALSE
SUMMARY:December 7\, 2017 - Planning Your Content Strategy: Social Media Marketing for Business - Workshop
DESCRIPTION:In this session\, Karina Cebuliak of Fox Street Solutions Inc. will guide you through planning your social media marketing strategy and calendar for the next year and teach you how to break it down into smaller\, more manageable chunks of time.\n\n\n\nYou will leave with:\n\n  A yearlong content calendar\n\n  A month-to-month content calendar \n\n  A weekly calendar with ideas and content strategy\n\n\n\nNOTE: Participants should have a solid idea about how to use social media for their business (exp. Facebook\, Instagram\, Twitter\, LinkedIn\, etc.). \n\n\nThis workshop is Karina Lauren Cebuliak of Fox Street Solutions Inc. \n\n\n\nKarina Cebuliak is a social media marketer\, and a print and web designer with a background in the corporate print industry with the Fortune 500 company\, Kodak. Karina's company\, Fox Street Solutions Inc. offers social media training\, digital marketing packages\, web and print design as well as security and networking management. Karina's true passion is to enable small businesses to grow and thrive through training and mentorship.
X-ALT-DESC;FMTTYPE=text/html:<div>In this session\, Karina Cebuliak&nbsp\;of Fox Street Solutions Inc.&nbsp\;will guide you through planning your social media marketing strategy and calendar for the next year and teach you how to break it down into smaller\, more manageable chunks of time.<br />\n<br />\nYou will leave with:<br />\n&#10625\;<span style="white-space:pre"> </span>A yearlong content calendar</div>\n\n<div>&#10625\;<span style="white-space:pre"> </span>A month-to-month content calendar&nbsp\;</div>\n\n<div>&#10625\;<span style="white-space:pre"> </span>A weekly calendar with ideas and content strategy</div>\n\n<div><br />\nNOTE: Participants should have a solid idea about how to use social media for their business (exp. Facebook\, Instagram\, Twitter\, LinkedIn\, etc.).&nbsp\;</div>\n<br />\n<strong>This workshop is Karina Lauren Cebuliak of&nbsp\;<span style="color: rgb(34\, 34\, 34)\; font-family: arial\, helvetica\, sans-serif\; font-size: 12.8px\;"><a href="http://foxstreetinc.com/">Fox Street Solutions Inc.</a>&nbsp\;</span></strong><br />\n<br />\n<em><span style="color: rgb(34\, 34\, 34)\; font-family: arial\, sans-serif\; font-size: 12.8px\; background-color: rgb(255\, 255\, 255)\;">Karina Cebuliak is a social media marketer\, and a print and web designer with a background in the corporate print industry with the Fortune 500 company\, Kodak. Karina&#39\;s company\, Fox Street Solutions Inc. offers social media training\, digital marketing packages\, web and print design as well as security and networking management. Karina&#39\;s true passion is to enable small businesses to grow and thrive through training and mentorship.&nbsp\;</span></em>
LOCATION:Surrey Board of Trade Conference Room 101-14439 104 Avenue\, Surrey
UID:e.749.5439
SEQUENCE:3
DTSTAMP:20260421T164612Z
URL:https://business.swrbot.com/events/details/december-7-2017-planning-your-content-strategy-social-media-marketing-for-business-workshop-12-07-2017-5439
END:VEVENT

END:VCALENDAR
