BEGIN:VCALENDAR
VERSION:2.0
PRODID:-//ChamberMaster//Event Calendar 2.0//EN
METHOD:PUBLISH
X-PUBLISHED-TTL:P3D
REFRESH-INTERVAL:P3D
CALSCALE:GREGORIAN
BEGIN:VEVENT
DTSTART:20151114T180000Z
DTEND:20151114T200000Z
X-MICROSOFT-CDO-ALLDAYEVENT:FALSE
SUMMARY:Delta Nature Reserve Public Tour
DESCRIPTION:Burns Bog Conservation Society holds a Public Tour of the Delta Nature Reserve. During the tour\, we discuss the importance of bogs and peatlands\, the history of Burns Bog\, adapted flora and fauna\, and threats to and conservation of the Bog. For more information \,visit www.burnsbog.org or call us at 604-572-0373.
X-ALT-DESC;FMTTYPE=text/html:Burns Bog Conservation Society holds a Public Tour of the Delta Nature Reserve. During the tour\, we discuss the importance of bogs and peatlands\, the history of Burns Bog\, adapted flora and fauna\, and threats to and conservation of the Bog. For more information \,visit www.burnsbog.org or call us at 604-572-0373.
LOCATION:Meet-up area: Planet Ice Parking Lot (10388 Nordel Crt. Delta))
UID:e.749.3692
SEQUENCE:3
DTSTAMP:20260423T230227Z
URL:https://business.swrbot.com/events/details/delta-nature-reserve-public-tour-11-14-2015-3692
END:VEVENT

END:VCALENDAR
