BEGIN:VCALENDAR
VERSION:2.0
PRODID:-//ChamberMaster//Event Calendar 2.0//EN
METHOD:PUBLISH
X-PUBLISHED-TTL:P3D
REFRESH-INTERVAL:P3D
CALSCALE:GREGORIAN
BEGIN:VEVENT
DTSTART:20150912T200000Z
DTEND:20150913T000000Z
X-MICROSOFT-CDO-ALLDAYEVENT:FALSE
SUMMARY:Diabetes Expo\,Join us for a CDA Expo in your community
DESCRIPTION:The Canadian Diabetes Association is hosting an upcoming CDA Expo on Saturday September 12\, 2015 Free for participants\, the CDA Expo includes exciting activities such as informative presentations\, an Ask the Experts session\, interactive tradeshow exhibits and demonstrations. This educational event invites people living with\, affected\, or at risk for diabetes to participate. Featured guest speakers include Dr. Tavis Campbell\, Clinical Psychologist and Associate Professor at the University of Calgary and Hal Johnson & Joanne McLeod\, Canada?s #1 Trusted Source for Healthy Living. For the past 26 years\, under the umbrella of BodyBreak\, Hal and Joanne have been encouraging Canadians of all ages to live a healthy\, active lifestyle. Participants will also have the opportunity to ask the experts the questions and gain access to latest information and resources about diabetes prevention and complications
X-ALT-DESC;FMTTYPE=text/html:The Canadian Diabetes Association is hosting an upcoming CDA Expo on Saturday September 12\, 2015 Free for participants\, the CDA Expo includes exciting activities such as informative presentations\, an Ask the Experts session\, interactive tradeshow exhibits and demonstrations. This educational event invites people living with\, affected\, or at risk for diabetes to participate. Featured guest speakers include Dr. Tavis Campbell\, Clinical Psychologist and Associate Professor at the University of Calgary and Hal Johnson &amp\; Joanne McLeod\, Canada?s #1 Trusted Source for Healthy Living. For the past 26 years\, under the umbrella of BodyBreak\, Hal and Joanne have been encouraging Canadians of all ages to live a healthy\, active lifestyle. Participants will also have the opportunity to ask the experts the questions and gain access to latest information and resources about diabetes prevention and complications
LOCATION:Bell Performing Arts Centre 6250 144 Street\, Surrey\, V3X1A1
UID:e.749.3616
SEQUENCE:3
DTSTAMP:20260423T200710Z
URL:https://business.swrbot.com/events/details/diabetes-expo-join-us-for-a-cda-expo-in-your-community-09-12-2015-3616
END:VEVENT

END:VCALENDAR
