BEGIN:VCALENDAR
VERSION:2.0
PRODID:-//ChamberMaster//Event Calendar 2.0//EN
METHOD:PUBLISH
X-PUBLISHED-TTL:P3D
REFRESH-INTERVAL:P3D
CALSCALE:GREGORIAN
BEGIN:VEVENT
DTSTART:20140530T013000Z
DTEND:20140530T033000Z
X-MICROSOFT-CDO-ALLDAYEVENT:FALSE
SUMMARY:DISCOVER THE 3 BIGGEST MISTAKES YOUTH MAKE WHEN CHOOSING A CAREER AND THE 3 ROA
DESCRIPTION:Cyndy coaches one-to-one and develops and delivers highly impactful workshops and programs. Her skills are unique\, as she provides a holistic approach. She integrates her training as a career coach and life coach\, with her passion to help people transform their lives to reach their professional and personal goals.\n\n\n\nKatherine works closely with her clients\, both one-on-one and in groups\, to ensure they present professionally through their marketing material. She provides resources and support to help build their confidence in interviews. She uses a positive and proven approach that keeps clients motivated and accountable as they journey towards landing the next great job.\n\n\nYou need to attend if...you are a parent of youth 15-25 years of age\nAre you \n\n\n	worried that your son or daughter won't be able to decide on a career direction before graduating?\n	irritated by the lack of resources and expertiseto help choose a suitable career?\n	troubled that money invested in post-secondarywill end in unemployment or a dead-end job?\n	scared your youth will not follow through once a career direction is made?\n	annoyed that they are not listening to your career suggestions?\n	frustrated by the lack of motivation youth have to find work?\n	afraid they will need to stay at home forever?
X-ALT-DESC;FMTTYPE=text/html:Cyndy coaches one-to-one and develops and delivers highly impactful workshops and programs. Her skills are unique\, as she provides a holistic approach. She integrates her training as a career coach and life coach\, with her passion to help people transform their lives to reach their professional and personal goals.<br />\n<br />\nKatherine works closely with her clients\, both one-on-one and in groups\, to ensure they present professionally through their marketing material. She provides resources and support to help build their confidence in interviews. She uses a positive and proven approach that keeps clients motivated and accountable as they journey towards landing the next great job.\n<div style="text-align: center\;"><br />\n<strong>You need to attend if...you are a parent of youth 15-25 years of age</strong></div>\n<strong>Are you&hellip\;</strong>\n\n<ul>\n	<li>worried that your son or daughter won&rsquo\;t be able to decide on a career direction before graduating?</li>\n	<li>irritated by the lack of resources and expertiseto help choose a suitable career?</li>\n	<li>troubled that money invested in post-secondarywill end in unemployment or a dead-end job?</li>\n	<li>scared your youth will not follow through once a career direction is made?</li>\n	<li>annoyed that they are not listening to your career suggestions?</li>\n	<li>frustrated by the lack of motivation youth&nbsp\;have to find work?</li>\n	<li>afraid they will need to stay at home forever?&nbsp\;</li>\n</ul>\n\n<div>&nbsp\;</div>\n
LOCATION:Ocean Pointe Business Centre Suite 404 - 1688 152 St. South Surrey\, BC V4A 4N2
UID:e.749.2651
SEQUENCE:3
DTSTAMP:20260425T224352Z
URL:https://business.swrbot.com/events/details/discover-the-3-biggest-mistakes-youth-make-when-choosing-a-career-and-the-3-roa-05-29-2014-2651
END:VEVENT

END:VCALENDAR
