BEGIN:VCALENDAR
VERSION:2.0
PRODID:-//ChamberMaster//Event Calendar 2.0//EN
METHOD:PUBLISH
X-PUBLISHED-TTL:P3D
REFRESH-INTERVAL:P3D
CALSCALE:GREGORIAN
BEGIN:VEVENT
DTSTART:20161112T170000Z
DTEND:20161112T200000Z
X-MICROSOFT-CDO-ALLDAYEVENT:FALSE
SUMMARY:DIVERSEcity Internationally Trained Professionals Networking Fair
DESCRIPTION:DIVERSEcity Community Resources Society Internationally Trained Professionals Networking Fair will feature:   Map out a career path for credential upgrading and pre-arrival occupations   Get information for credential evaluation   Panelists from the Engineering\, Accounting and Nursing sectors   Exhibitors showcasing bridging programs as well as potential employers   Learn from top industry leaders & employers
X-ALT-DESC;FMTTYPE=text/html:DIVERSEcity Community Resources Society Internationally Trained Professionals Networking Fair will feature: &bull\; Map out a career path for credential upgrading and pre-arrival occupations &bull\; Get information for credential evaluation &bull\; Panelists from the Engineering\, Accounting and Nursing sectors &bull\; Exhibitors showcasing bridging programs as well as potential employers &bull\; Learn from top industry leaders &amp\; employers
LOCATION:Kwantlen Polytechnic University - 12666 72 Avenue\, Surrey\, BC V3W 2M8
UID:e.749.5126
SEQUENCE:3
DTSTAMP:20260422T080919Z
URL:https://business.swrbot.com/events/details/diversecity-internationally-trained-professionals-networking-fair-11-12-2016-5126
END:VEVENT

END:VCALENDAR
