BEGIN:VCALENDAR
VERSION:2.0
PRODID:-//ChamberMaster//Event Calendar 2.0//EN
METHOD:PUBLISH
X-PUBLISHED-TTL:P3D
REFRESH-INTERVAL:P3D
CALSCALE:GREGORIAN
BEGIN:VEVENT
DTSTART:20101104T154500Z
DTEND:20101104T233000Z
X-MICROSOFT-CDO-ALLDAYEVENT:FALSE
SUMMARY:Doing Business in the USA Seminar
DESCRIPTION:Pacific Customs Brokers is proud to be one of the presenters and sponsors for the Doing Business in the USA Seminar. The USA is a huge and responsive market of 300 million buyers that is very receptive to Canadian and imported goods. This seminar is designed to help you understand the market\, plan your approach\, and suggest practical methods for implementing your business / marketing plans. The Doing Business in the USA Seminar will be of interest to any new or existing company that wants to sell their Canadian or imported products/ services in the United States. Attendees will include: Canadian manufacturers\, distributors\, agents\, consultants\, and other business advisors. This is also an ideal opportunity for existing exporters to update new key employees.\n\n	 \n\n	Date\, Time and Location:\n\n	 \n\n	Delta Town and Country Inn (6005 Hwy 17\, Delta)\n\n	 \n\n	Thursday\, November 4\, 2010\n\n	8:45 am - 2:45 pm - Presentations\n\n	2:45 pm - 4:30 pm - Meet the Presenters\n\n	 \n\n	Registration Information:\n\n	 \n\n	Seminar Fee: The cost for this session is $195 per person if pre-registered\, or $225 at the door. If 2 or more people register at the same time the cost for each person will be reduced to $145 per person. If registered on / before October 29\, deduct $25 per person. Special: After lunch only $75.\n\n	 \n\n	How to Register:\n\n	Contact International Market Access\, Inc.\n\n	PO Box 94430\, Richmond\, BC V6X 8A8\n\n	Fax: 604.272.2544\n\n	Email: dbusa@UCanTrade.com\n\n	 \n\n	Contact Information:\n\n	Carol Jackson at International Market Access\, Inc.\n\n	Phone: 1.800.799.8848\n\n	Email: dbusa@UCanTrade.com\n\n	Website: www.UCanTrade.com
X-ALT-DESC;FMTTYPE=text/html:<div>\n	Pacific Customs Brokers is proud to be one of the presenters and sponsors for the Doing Business in the USA Seminar. The USA is a huge and responsive market of 300 million buyers that is very receptive to Canadian and imported goods. This seminar is designed to help you understand the market\, plan your approach\, and suggest practical methods for implementing your business / marketing plans. The Doing Business in the USA Seminar will be of interest to any new or existing company that wants to sell their Canadian or imported products/ services in the United States. Attendees will include: Canadian manufacturers\, distributors\, agents\, consultants\, and other business advisors. This is also an ideal opportunity for existing exporters to update new key employees.</div>\n<div>\n	&nbsp\;</div>\n<div>\n	Date\, Time and Location:</div>\n<div>\n	&nbsp\;</div>\n<div>\n	Delta Town and Country Inn (6005 Hwy 17\, Delta)</div>\n<div>\n	&nbsp\;</div>\n<div>\n	Thursday\, November 4\, 2010</div>\n<div>\n	8:45 am - 2:45 pm - Presentations</div>\n<div>\n	2:45 pm - 4:30 pm - Meet the Presenters</div>\n<div>\n	&nbsp\;</div>\n<div>\n	<strong>Registration Information:</strong></div>\n<div>\n	&nbsp\;</div>\n<div>\n	Seminar Fee: The cost for this session is $195 per person if pre-registered\, or $225 at the door. If 2 or more people register at the same time the cost for each person will be reduced to $145 per person. If registered on / before October 29\, deduct $25 per person. Special: After lunch only $75.</div>\n<div>\n	&nbsp\;</div>\n<div>\n	How to Register:</div>\n<div>\n	Contact International Market Access\, Inc.</div>\n<div>\n	PO Box 94430\, Richmond\, BC V6X 8A8</div>\n<div>\n	Fax: 604.272.2544</div>\n<div>\n	Email: <a href="http://mailto:dbusa@UCanTrade.com">dbusa@UCanTrade.com</a></div>\n<div>\n	&nbsp\;</div>\n<div>\n	Contact Information:</div>\n<div>\n	Carol Jackson at International Market Access\, Inc.</div>\n<div>\n	Phone: 1.800.799.8848</div>\n<div>\n	Email: <a href="http://mailto:dbusa@UCanTrade.com">dbusa@UCanTrade.com</a></div>\n<div>\n	Website: <a href="http://www.UCanTrade.com" target="_blank">www.UCanTrade.com</a></div>\n
LOCATION:Delta Town and Country Inn (6005 Hwy 17\, Delta)
UID:e.749.1702
SEQUENCE:3
DTSTAMP:20260422T132415Z
URL:https://business.swrbot.com/events/details/doing-business-in-the-usa-seminar-11-04-2010-1702
END:VEVENT

END:VCALENDAR
