BEGIN:VCALENDAR
VERSION:2.0
PRODID:-//ChamberMaster//Event Calendar 2.0//EN
METHOD:PUBLISH
X-PUBLISHED-TTL:P3D
REFRESH-INTERVAL:P3D
CALSCALE:GREGORIAN
BEGIN:VEVENT
DTSTART:20191107T170000Z
DTEND:20191107T200000Z
X-MICROSOFT-CDO-ALLDAYEVENT:FALSE
SUMMARY:Doing Business In The USA Seminar
DESCRIPTION:DBUSA is an informative conference dedicated to helping Canadian business owners enter the American marketplace. Gain access to our panel of carefully selected Immigration & Cross-Border Lawyers\, Tax Specialists\, Customs Brokers and Logistics Professionals coming together from Cascadia Cross-Border Law\, MNP\, Law Offices of Gene Moses\, Pacific Customs Brokers\, and UCanTrade Inc. Whether opening a store front with a US address or partnering with a distribution center for your eCommerce activity\, our seasoned panel will present options that will help you determine your export strategy and understand your responsibilities with local and federal government agencies such as the US Customs and Border Protection\, Secretary of State and US Citizen and Immigration Services.
X-ALT-DESC;FMTTYPE=text/html:DBUSA is an informative conference dedicated to helping Canadian business owners enter the American marketplace. Gain access to our panel of carefully selected Immigration &amp\; Cross-Border Lawyers\, Tax Specialists\, Customs Brokers and Logistics Professionals coming together from Cascadia Cross-Border Law\, MNP\, Law Offices of Gene Moses\, Pacific Customs Brokers\, and UCanTrade Inc. Whether opening a store front with a US address or partnering with a distribution center for your eCommerce activity\, our seasoned panel will present options that will help you determine your export strategy and understand your responsibilities with local and federal government agencies such as the US Customs and Border Protection\, Secretary of State and US Citizen and Immigration Services.
LOCATION:Sheraton Guildford Hotel\, 15269 104 Ave\, Surrey\, BC
UID:e.749.10712
SEQUENCE:3
DTSTAMP:20260420T111405Z
URL:https://business.swrbot.com/events/details/doing-business-in-the-usa-seminar-11-07-2019-10712
END:VEVENT

END:VCALENDAR
