BEGIN:VCALENDAR
VERSION:2.0
PRODID:-//ChamberMaster//Event Calendar 2.0//EN
METHOD:PUBLISH
X-PUBLISHED-TTL:P3D
REFRESH-INTERVAL:P3D
CALSCALE:GREGORIAN
BEGIN:VEVENT
DTSTART:20120714T160000Z
DTEND:20120715T010000Z
X-MICROSOFT-CDO-ALLDAYEVENT:FALSE
SUMMARY:Drive For A Cure
DESCRIPTION:Bring out your friends and family and visit Dams Ford Lincoln between 9:00am and 6:00pm test drive a Ford vehicle and a donation will be made to SMH to support providing the best cancer care for our many patients\n\n	The more drives the more dollars!
X-ALT-DESC;FMTTYPE=text/html:<p>\n	Bring out your friends and family and visit Dams Ford Lincoln between 9:00am and 6:00pm test drive a Ford vehicle and a donation will be made to SMH to support providing the best cancer care for our many patients</p>\n<p>\n	The more drives the more dollars!</p>\n
LOCATION:Dams Ford Lincoln 14530 104th Ave. Surrey\, BC
UID:e.749.2084
SEQUENCE:3
DTSTAMP:20260421T075700Z
URL:https://business.swrbot.com/events/details/drive-for-a-cure-07-14-2012-2084
END:VEVENT

END:VCALENDAR
