BEGIN:VCALENDAR
VERSION:2.0
PRODID:-//ChamberMaster//Event Calendar 2.0//EN
METHOD:PUBLISH
X-PUBLISHED-TTL:P3D
REFRESH-INTERVAL:P3D
CALSCALE:GREGORIAN
BEGIN:VEVENT
DTSTART:20140307T023000Z
DTEND:20140307T050000Z
X-MICROSOFT-CDO-ALLDAYEVENT:FALSE
SUMMARY:Dying to Have a Conversation: Let?s Talk About End of Life Issues
DESCRIPTION:Presented by White Rock/Surrey Chapter of CARP   \n\n	A New Vision of Aging for Canada\n\n	April Lewis\, B.C. Representative CARP will moderate a panel consisting of:\n\n	        Dr. Jim Stephenson\, Chairman of the Board\, Dying with Dignity\n\n	        Dr. Will Johnston\, President\, Canadian Physicians for Life\n\n	        Ms. Grace Pastine\, Litigation Director\, B.C. Civil Liberties Assn.\n\n	        Dr. Margaret Cottle\, Palliative Care Physician\n\n	Q & A with audience will take place after presentations.
X-ALT-DESC;FMTTYPE=text/html:<p class="MsoNormal" style="margin: 0in 0in 0pt\;">\n	<span lang="EN-CA" style="font-family: &quot\;Calibri&quot\;\,&quot\;sans-serif&quot\;\; mso-ascii-theme-font: minor-latin\; mso-hansi-theme-font: minor-latin\;"><font size="3"><font color="#000000">Presented by White Rock/Surrey Chapter of CARP &ndash\; <o:p></o:p></font></font></span></p>\n<p class="MsoNormal" style="margin: 0in 0in 0pt\;">\n	<span lang="EN-CA" style="font-family: &quot\;Calibri&quot\;\,&quot\;sans-serif&quot\;\; mso-ascii-theme-font: minor-latin\; mso-hansi-theme-font: minor-latin\;"><font size="3"><font color="#000000">A New Vision of Aging for Canada<o:p></o:p></font></font></span></p>\n<p class="MsoNormal" style="margin: 0in 0in 0pt\;">\n	<span lang="EN-CA" style="font-family: &quot\;Calibri&quot\;\,&quot\;sans-serif&quot\;\; mso-ascii-theme-font: minor-latin\; mso-hansi-theme-font: minor-latin\;"><font size="3"><font color="#000000">April Lewis\, B.C. Representative CARP will moderate a panel consisting of:<o:p></o:p></font></font></span></p>\n<p class="MsoListParagraphCxSpFirst" style="margin: 0in 0in 0pt\; text-indent: -0.25in\; mso-add-space: auto\; mso-list: l0 level1 lfo1\;">\n	<font color="#000000"><span style="font-family: Symbol\; font-size: 12pt\; mso-fareast-font-family: Symbol\; mso-bidi-font-family: Symbol\;"><span style="mso-list: Ignore\;">&middot\;<span style="font: 7pt/normal &quot\;Times New Roman&quot\;\; font-size-adjust: none\; font-stretch: normal\;">&nbsp\;&nbsp\;&nbsp\;&nbsp\;&nbsp\;&nbsp\; </span></span></span><span style="font-size: 12pt\; mso-ascii-theme-font: minor-latin\; mso-hansi-theme-font: minor-latin\; mso-ascii-font-family: Calibri\; mso-hansi-font-family: Calibri\;"><font face="Calibri">Dr. Jim Stephenson\, Chairman of the Board\, Dying with Dignity<o:p></o:p></font></span></font></p>\n<p class="MsoListParagraphCxSpMiddle" style="margin: 0in 0in 0pt\; text-indent: -0.25in\; mso-add-space: auto\; mso-list: l0 level1 lfo1\;">\n	<font color="#000000"><span style="font-family: Symbol\; font-size: 12pt\; mso-fareast-font-family: Symbol\; mso-bidi-font-family: Symbol\;"><span style="mso-list: Ignore\;">&middot\;<span style="font: 7pt/normal &quot\;Times New Roman&quot\;\; font-size-adjust: none\; font-stretch: normal\;">&nbsp\;&nbsp\;&nbsp\;&nbsp\;&nbsp\;&nbsp\; </span></span></span><span style="font-size: 12pt\; mso-ascii-theme-font: minor-latin\; mso-hansi-theme-font: minor-latin\; mso-ascii-font-family: Calibri\; mso-hansi-font-family: Calibri\;"><font face="Calibri">Dr. Will Johnston\, President\, Canadian Physicians for Life<o:p></o:p></font></span></font></p>\n<p class="MsoListParagraphCxSpMiddle" style="margin: 0in 0in 0pt\; text-indent: -0.25in\; mso-add-space: auto\; mso-list: l0 level1 lfo1\;">\n	<font color="#000000"><span style="font-family: Symbol\; font-size: 12pt\; mso-fareast-font-family: Symbol\; mso-bidi-font-family: Symbol\;"><span style="mso-list: Ignore\;">&middot\;<span style="font: 7pt/normal &quot\;Times New Roman&quot\;\; font-size-adjust: none\; font-stretch: normal\;">&nbsp\;&nbsp\;&nbsp\;&nbsp\;&nbsp\;&nbsp\; </span></span></span><span style="font-size: 12pt\; mso-ascii-theme-font: minor-latin\; mso-hansi-theme-font: minor-latin\; mso-ascii-font-family: Calibri\; mso-hansi-font-family: Calibri\;"><font face="Calibri">Ms. Grace Pastine\, Litigation Director\, B.C. Civil Liberties Assn.<o:p></o:p></font></span></font></p>\n<p class="MsoListParagraphCxSpLast" style="margin: 0in 0in 0pt\; text-indent: -0.25in\; mso-add-space: auto\; mso-list: l0 level1 lfo1\;">\n	<font color="#000000"><span style="font-family: Symbol\; font-size: 12pt\; mso-fareast-font-family: Symbol\; mso-bidi-font-family: Symbol\;"><span style="mso-list: Ignore\;">&middot\;<span style="font: 7pt/normal &quot\;Times New Roman&quot\;\; font-size-adjust: none\; font-stretch: normal\;">&nbsp\;&nbsp\;&nbsp\;&nbsp\;&nbsp\;&nbsp\; </span></span></span><span style="font-size: 12pt\; mso-ascii-theme-font: minor-latin\; mso-hansi-theme-font: minor-latin\; mso-ascii-font-family: Calibri\; mso-hansi-font-family: Calibri\;"><font face="Calibri">Dr. Margaret Cottle\, Palliative Care Physician<o:p></o:p></font></span></font></p>\n<p class="MsoNormal" style="margin: 0in 0in 0pt\;">\n	<span lang="EN-CA" style="font-family: &quot\;Calibri&quot\;\,&quot\;sans-serif&quot\;\; mso-ascii-theme-font: minor-latin\; mso-hansi-theme-font: minor-latin\;"><font size="3"><font color="#000000">Q &amp\; A with audience will take place after presentations.<o:p></o:p></font></font></span></p>\n
LOCATION:White Rock Community Centre\, 15254 Russell Ave.
UID:e.749.2585
SEQUENCE:3
DTSTAMP:20260426T011105Z
URL:https://business.swrbot.com/events/details/dying-to-have-a-conversation-let-s-talk-about-end-of-life-issues-03-06-2014-2585
END:VEVENT

END:VCALENDAR
