BEGIN:VCALENDAR
VERSION:2.0
PRODID:-//ChamberMaster//Event Calendar 2.0//EN
METHOD:PUBLISH
X-PUBLISHED-TTL:P3D
REFRESH-INTERVAL:P3D
CALSCALE:GREGORIAN
BEGIN:VEVENT
DTSTART:20170423T210000Z
DTEND:20170423T230000Z
X-MICROSOFT-CDO-ALLDAYEVENT:FALSE
SUMMARY:Earth Day Pilgrimage & Art Contest Awards
DESCRIPTION:Join us for the Earth Day Pilgrimage at the Delta Nature Reserve! Gather your families & pay homage to Mother Nature with a relaxing walk through nature. Listen to peaceful sounds of the flute\, drums\, and spiritual singing. Buy wildlife-themed t-shirts and book. Enjoy free Cobs treats\, and DeDutch coffee. See you there!
X-ALT-DESC;FMTTYPE=text/html:Join us for the Earth Day Pilgrimage at the Delta Nature Reserve! Gather your families &amp\; pay homage to Mother Nature with a relaxing walk through nature. Listen to peaceful sounds of the flute\, drums\, and spiritual singing. Buy wildlife-themed t-shirts and book. Enjoy free Cobs treats\, and DeDutch coffee. See you there!
LOCATION:10388 Nordel Court\,Delta\,BC\, V4G 1J9
UID:e.749.5235
SEQUENCE:3
DTSTAMP:20260422T035313Z
URL:https://business.swrbot.com/events/details/earth-day-pilgrimage-art-contest-awards-04-23-2017-5235
END:VEVENT

END:VCALENDAR
