BEGIN:VCALENDAR
VERSION:2.0
PRODID:-//ChamberMaster//Event Calendar 2.0//EN
METHOD:PUBLISH
X-PUBLISHED-TTL:P3D
REFRESH-INTERVAL:P3D
CALSCALE:GREGORIAN
BEGIN:VEVENT
DTSTART:20140427T200000Z
DTEND:20140427T230000Z
X-MICROSOFT-CDO-ALLDAYEVENT:FALSE
SUMMARY:Earth Day Pilgrimage to Burns Bog
DESCRIPTION:This is the time to experience Burns Bog as it comes back to life. Enjoy a relaxing and musical walk though the bog. The 2km boardwalk is wheelchair and stroller accessible. This walk is a multi-cultural celebration of the earth. Various artists will be performing. The walk starts at 1pm.
X-ALT-DESC;FMTTYPE=text/html:This is the time to experience Burns Bog as it comes back to life. Enjoy a relaxing and musical walk though the bog. The 2km boardwalk is wheelchair and stroller accessible. This walk is a multi-cultural celebration of the earth. Various artists will be performing. The walk starts at 1pm.
LOCATION:10388 Nordel Court\, Delta\, BC\, V4G 1J9
UID:e.749.2553
SEQUENCE:3
DTSTAMP:20260425T224204Z
URL:https://business.swrbot.com/events/details/earth-day-pilgrimage-to-burns-bog-04-27-2014-2553
END:VEVENT

END:VCALENDAR
