BEGIN:VCALENDAR
VERSION:2.0
PRODID:-//ChamberMaster//Event Calendar 2.0//EN
METHOD:PUBLISH
X-PUBLISHED-TTL:P3D
REFRESH-INTERVAL:P3D
CALSCALE:GREGORIAN
BEGIN:VEVENT
DTSTART:20150601T190000Z
DTEND:20150630T190000Z
X-MICROSOFT-CDO-ALLDAYEVENT:FALSE
SUMMARY:Elevate Your Lifestyle 30 day Summer Challenge
DESCRIPTION:As we are heading into summer\, let?s have one of the most memorable summers! Imagine feeling light\, free and happier because you just invested 10-20 minutes a day in yourself. What a blessed feeling! You know are you worth it. It is easy to think I don?t have the time but when you invest in yourself\, so I am making it easy. It is going to be 5-20 minutes a day. You will receive an email\, an audio or a video every few days with your exercises\, reflection and fun time. You have unlimited email access to me to ask me questions and provide online coaching which many have found absolutely amazing as it is those little insights that empower us. We will have two coaching calls as well ? live so you can ask me questions and get coached on the spot! The Elevate Your Lifestyle 30 day summer challenge will look at Mindset Relationships Confidence Career Body Image Money Communication Vulnerability Authenticity Heart based actions So if you are ready to dive in\, join me in this 30 day summer challenge!
X-ALT-DESC;FMTTYPE=text/html:As we are heading into summer\, let?s have one of the most memorable summers! Imagine feeling light\, free and happier because you just invested 10-20 minutes a day in yourself. What a blessed feeling! You know are you worth it. It is easy to think I don?t have the time but when you invest in yourself\, so I am making it easy. It is going to be 5-20 minutes a day. You will receive an email\, an audio or a video every few days with your exercises\, reflection and fun time. You have unlimited email access to me to ask me questions and provide online coaching which many have found absolutely amazing as it is those little insights that empower us. We will have two coaching calls as well ? live so you can ask me questions and get coached on the spot! The Elevate Your Lifestyle 30 day summer challenge will look at Mindset Relationships Confidence Career Body Image Money Communication Vulnerability Authenticity Heart based actions So if you are ready to dive in\, join me in this 30 day summer challenge!
LOCATION:Virtual
UID:e.749.3592
SEQUENCE:3
DTSTAMP:20260423T150405Z
URL:https://business.swrbot.com/events/details/elevate-your-lifestyle-30-day-summer-challenge-06-01-2015-3592
END:VEVENT

END:VCALENDAR
