BEGIN:VCALENDAR
VERSION:2.0
PRODID:-//ChamberMaster//Event Calendar 2.0//EN
METHOD:PUBLISH
X-PUBLISHED-TTL:P3D
REFRESH-INTERVAL:P3D
CALSCALE:GREGORIAN
BEGIN:VEVENT
DTSTART:20180515T180000Z
DTEND:20180515T220000Z
X-MICROSOFT-CDO-ALLDAYEVENT:FALSE
SUMMARY:Empower Me business open house
DESCRIPTION:Coast Capital is passionate about helping our members achieve what is important to them through simple financial advice. We welcome you to join us at our free open house where you can meet our business experts and ask them questions about how to manage\, grow and protect your business. We will have representatives from our business lending and equipment leasing\, insurance\, banking and payment solutions attending this open house to provide solutions to meet your specific business needs.
X-ALT-DESC;FMTTYPE=text/html:Coast Capital is passionate about helping our members achieve what is important to them through simple financial advice. We welcome you to join us at our free open house where you can meet our business experts and ask them questions about how to manage\, grow and protect your business. We will have representatives from our business lending and equipment leasing\, insurance\, banking and payment solutions attending this open house to provide solutions to meet your specific business needs.
LOCATION:Coast Capital Savings Cloverdale 17730 No. 10 Hwy\, Surrey\, B.C. V3S 1C7
UID:e.749.8258
SEQUENCE:3
DTSTAMP:20260421T102754Z
URL:https://business.swrbot.com/events/details/empower-me-business-open-house-05-15-2018-8258
END:VEVENT

END:VCALENDAR
