BEGIN:VCALENDAR
VERSION:2.0
PRODID:-//ChamberMaster//Event Calendar 2.0//EN
METHOD:PUBLISH
X-PUBLISHED-TTL:P3D
REFRESH-INTERVAL:P3D
CALSCALE:GREGORIAN
BEGIN:VEVENT
DTSTART:20141010T200000Z
DTEND:20141011T000000Z
X-MICROSOFT-CDO-ALLDAYEVENT:FALSE
SUMMARY:Endurance Wind Power Open House | Wind 4 Water Fundraiser
DESCRIPTION:Endurance Wind Power has recently moved to its new location and would like invite our "local community" to have a look into our world.  Endurance will be having an Open House on October 10th\, 2014 when we hope you can come and meet us\, meet the community and learn a little bit about our technology and our business.\n\n \n\nWe have grown over the last 7 years into a global company\, all started in a small 5 person office on 25th Avenue.  We now have offices in the US\, the UK and Denmark and with representation in Italy as well.  Our global fleet has realized unprecedented growth and we've installed over 700 Wind Turbines worldwide\, realizing over 13.5 million operating hours\, and reducing enough Co2 to remove over 17\,000 cars off the road for a year.  We feel very proud of our company and I am sure there are many companies in the South Surrey area that have equally exciting stories to tell.\n\n \n\nWe have been able to achieve great success which we fully intend to build upon but we also have a social conscience.  We are having an Open Day at our new location as a "meet the community" event but we are also using this occasion to raise funds for a project close to our heart\, Wind 4 Water. For more information on the fundraising campaign and the charity we are supporting please follow the website link below.
X-ALT-DESC;FMTTYPE=text/html:<p class="MsoNormal" style="margin: 0px\; color: rgb(34\, 34\, 34)\; line-height: normal\; font-family: verdana\, sans-serif\;"><em><span lang="EN-CA">Endurance Wind Power has recently moved to its new location and would like invite our &ldquo\;local community&rdquo\; to have a look into our world.&nbsp\; Endurance will be having an&nbsp\;<b>Open House on October 10<sup>th</sup>\, 2014</b>&nbsp\;when we hope you can come and meet us\, meet the community and learn a little bit about our technology and our business.</span></em></p>\n\n<p class="MsoNormal" style="margin: 0px\; color: rgb(34\, 34\, 34)\; line-height: normal\; font-family: verdana\, sans-serif\;">&nbsp\;</p>\n\n<p class="MsoNormal" style="margin: 0px\; color: rgb(34\, 34\, 34)\; line-height: normal\; font-family: verdana\, sans-serif\;"><em><span lang="EN-CA">We have grown over the last 7 years into a global company\, all started in a small 5 person office on 25<sup>th</sup>&nbsp\;Avenue.&nbsp\; We now have offices in the US\, the UK and Denmark and with representation in Italy as well.&nbsp\; Our global fleet has realized unprecedented growth and we&rsquo\;ve installed over 700 Wind Turbines worldwide\, realizing over 13.5 million operating hours\, and reducing enough Co2 to remove over 17\,000 cars off the road for a year.&nbsp\; We feel very proud of our company and I am sure there are many companies in the South Surrey area that have equally exciting stories to tell.</span></em></p>\n\n<p class="MsoNormal" style="margin: 0px\; color: rgb(34\, 34\, 34)\; line-height: normal\; font-family: verdana\, sans-serif\;">&nbsp\;</p>\n\n<p class="MsoNormal" style="margin: 0px\; color: rgb(34\, 34\, 34)\; line-height: normal\; font-family: verdana\, sans-serif\;"><em><span lang="EN-CA">We have been able to achieve great success which we fully intend to build upon but we also have a social conscience.&nbsp\; We are having an Open Day at our new location as a &ldquo\;meet the community&rdquo\; event but we are also using this occasion to raise funds for a project close to our heart\,&nbsp\;<b>Wind 4 Water</b>. For more information on the fundraising campaign and the charity we are supporting please follow the website link below.</span></em></p>\n
LOCATION:Unit #101 19347 24th Avenue\, Surrey\, BC\, Canada V3S 3S9
UID:e.749.2771
SEQUENCE:3
DTSTAMP:20260425T152423Z
URL:https://business.swrbot.com/events/details/endurance-wind-power-open-house-wind-4-water-fundraiser-10-10-2014-2771
END:VEVENT

END:VCALENDAR
