BEGIN:VCALENDAR
VERSION:2.0
PRODID:-//ChamberMaster//Event Calendar 2.0//EN
METHOD:PUBLISH
X-PUBLISHED-TTL:P3D
REFRESH-INTERVAL:P3D
CALSCALE:GREGORIAN
BEGIN:VEVENT
DTSTART:20171211T170000Z
DTEND:20171212T003000Z
X-MICROSOFT-CDO-ALLDAYEVENT:FALSE
SUMMARY:ENTREPRENEUR WORKSHOP: Launch your business - get your tools to bring your idea to life
DESCRIPTION:SOME OF THE TOPICS INCLUDE:\n\n	Entrepreneurship basics & mental toughness\n	What is my value proposition? Product vs process innovation\n	How do I develop my idea into a profitable\, scalable business?\n	What is my business model? Revenue model?\n	Cash flow strategy & realistic financial plan\n	How do I prepare an impressive investor pitch?\n	Legal issues to consider\, tax & other compliance & obligation\n\nBONUS of this workshop:\n\nDetailed personalized business plan worth $750-FREE + Free 1 hour business consulting worth $350
X-ALT-DESC;FMTTYPE=text/html:<strong>SOME OF THE TOPICS INCLUDE:</strong>\n<ul>\n	<li>Entrepreneurship basics &amp\; mental toughness</li>\n	<li>What is my value proposition? Product vs process innovation</li>\n	<li>How do I develop my idea into a profitable\, scalable business?</li>\n	<li>What is my business model? Revenue model?</li>\n	<li>Cash flow strategy &amp\; realistic financial plan</li>\n	<li>How do I prepare an impressive investor pitch?</li>\n	<li>Legal issues to consider\, tax &amp\; other compliance &amp\; obligation</li>\n</ul>\n<strong>BONUS of this workshop:</strong><br />\nDetailed personalized business plan worth $750-FREE + Free 1 hour business consulting worth $350
LOCATION:14439 104 Ave. Surrey - Surrey Board of Trade
UID:e.749.5579
SEQUENCE:3
DTSTAMP:20260421T165854Z
URL:https://business.swrbot.com/events/details/entrepreneur-workshop-launch-your-business-get-your-tools-to-bring-your-idea-to-life-12-11-2017-5579
END:VEVENT

END:VCALENDAR
