BEGIN:VCALENDAR
VERSION:2.0
PRODID:-//ChamberMaster//Event Calendar 2.0//EN
METHOD:PUBLISH
X-PUBLISHED-TTL:P3D
REFRESH-INTERVAL:P3D
CALSCALE:GREGORIAN
BEGIN:VEVENT
DTSTART:20190221T180000Z
DTEND:20190221T193000Z
X-MICROSOFT-CDO-ALLDAYEVENT:FALSE
SUMMARY:Estate Planning for Seniors: 10 Common Mistakes and How to Fix Them
DESCRIPTION:Learn how to: - Invest tax effectively - Minimize probate - Prevent family problems - Increase gifts to charity - Make sure your wishes are carried out Who will benefit from attending? Seniors who want the peace of mind that comes from ensuring their loved ones are taken care of.
X-ALT-DESC;FMTTYPE=text/html:Learn how to: - Invest tax effectively - Minimize probate - Prevent family problems - Increase gifts to charity - Make sure your wishes are carried out Who will benefit from attending? Seniors who want the peace of mind that comes from ensuring their loved ones are taken care of.
LOCATION:Scotia Wealth Management Boardroom 1676 Martin Drive\, Suite 100\, White Rock
UID:e.749.10192
SEQUENCE:3
DTSTAMP:20260421T002217Z
URL:https://business.swrbot.com/events/details/estate-planning-for-seniors-10-common-mistakes-and-how-to-fix-them-02-21-2019-10192
END:VEVENT

END:VCALENDAR
