BEGIN:VCALENDAR
VERSION:2.0
PRODID:-//ChamberMaster//Event Calendar 2.0//EN
METHOD:PUBLISH
X-PUBLISHED-TTL:P3D
REFRESH-INTERVAL:P3D
CALSCALE:GREGORIAN
BEGIN:VEVENT
DTSTART:20200204T163000Z
DTEND:20200205T203000Z
X-MICROSOFT-CDO-ALLDAYEVENT:FALSE
SUMMARY:Executive Presence Workshop
DESCRIPTION:How would it feel to walk into a job interview with supreme confidence? Or to give a presentation in front of your company's C-suite with panache? Once you master the basics of presence\, you'll be amazed at the doors it can unlock. If you are a mid to senior-level manager seeking to maximize your personal impact and communication skills\, this workshop is for you! Learn how to tap into this superpower with the Executive Presence Workshop by success coach Margaret Page. At Margaret's two-day workshop\, you will learn: - How to make a powerful first impression - How to impress your client at networking and dining events - How to navigate digital communications - How to develop your personal gravitas and much more!
X-ALT-DESC;FMTTYPE=text/html:How would it feel to walk into a job interview with supreme confidence? Or to give a presentation in front of your company&rsquo\;s C-suite with panache? Once you master the basics of presence\, you&rsquo\;ll be amazed at the doors it can unlock. If you are a mid to senior-level manager seeking to maximize your personal impact and communication skills\, this workshop is for you! Learn how to tap into this superpower with the Executive Presence Workshop by success coach Margaret Page. At Margaret&#39\;s two-day workshop\, you will learn: - How to make a powerful first impression - How to impress your client at networking and dining events - How to navigate digital communications - How to develop your personal gravitas and much more!
LOCATION:Morgan Creek Golf Course 3500 Morgan Creek Way Surrey\, BC V3Z 0J7
UID:e.749.10842
SEQUENCE:3
DTSTAMP:20260420T065906Z
URL:https://business.swrbot.com/events/details/executive-presence-workshop-02-04-2020-10842
END:VEVENT

END:VCALENDAR
