BEGIN:VCALENDAR
VERSION:2.0
PRODID:-//ChamberMaster//Event Calendar 2.0//EN
METHOD:PUBLISH
X-PUBLISHED-TTL:P3D
REFRESH-INTERVAL:P3D
CALSCALE:GREGORIAN
BEGIN:VEVENT
DTSTART:20140425T230000Z
DTEND:20140426T030000Z
X-MICROSOFT-CDO-ALLDAYEVENT:FALSE
SUMMARY:EXO Building System - Open House at Holy Cross High School
DESCRIPTION:The time has come to open our doors and show you the newest innovation in modular solutions\, The EXO  Building System.\n\n\n\nIn 2010\, EXO  engaged a team of thinkers\, architects\, designers and engineers to develop a new and innovative solution for small to medium sized buildings. Our unique interlocking Panel system is modern\, healthy and energy efficient.\n\n\n\nEXO  completed a three classroom portable replacement build at Holy Cross High School in Surrey. Portables are meant to support students and act as a temporary solution\, but that's not always the case. Come see your other modular option. We encourge you to stop by our open house to view our EXO  building\, meet our team and learn about the benefits of this new technology.\n\n For more information on EXO  please visit www.exobuildings.com
X-ALT-DESC;FMTTYPE=text/html:<br />\nThe time has come to open our doors and show you the newest innovation in modular solutions\, The EXO<span class="st">&trade\;</span> Building System.<br />\n<br />\nIn 2010\, EXO<span class="st">&trade\;</span> engaged a team of thinkers\, architects\, designers and engineers to develop a new and innovative solution for small to medium sized buildings. Our unique interlocking Panel system is modern\, healthy and energy efficient.<br />\n<br />\nEXO<span class="st">&trade\;</span> completed a three classroom portable replacement build at Holy Cross High School in Surrey. Portables are meant to support students and act as a temporary solution\, but that&#39\;s not always the case. Come see your other modular option. We encourge you to stop by our open house to view our EXO<span class="st">&trade\;</span><span class="st"> building</span>\, meet our team and learn about the benefits of this new technology.\n\n<p class="MsoNormal" style="mso-pagination:none"><span lang="en-CA" style="language:en-CA">&nbsp\;For more information on </span><span lang="en-CA" style="language:en-CA">EXO</span><span class="st">&trade\;</span><span class="st"> please visit www.exobuildings.com</span></p>\n
LOCATION:Holy Cross High School 16193 88th Avenue Surrey\, BC Please park in the main lot out front and come around to the back via the right side of the school.
UID:e.749.2619
SEQUENCE:3
DTSTAMP:20260425T224229Z
URL:https://business.swrbot.com/events/details/exo-building-system-open-house-at-holy-cross-high-school-04-25-2014-2619
END:VEVENT

END:VCALENDAR
