BEGIN:VCALENDAR
VERSION:2.0
PRODID:-//ChamberMaster//Event Calendar 2.0//EN
METHOD:PUBLISH
X-PUBLISHED-TTL:P3D
REFRESH-INTERVAL:P3D
CALSCALE:GREGORIAN
BEGIN:VEVENT
DTSTART:20160428T160000Z
DTEND:20160428T190000Z
X-MICROSOFT-CDO-ALLDAYEVENT:FALSE
SUMMARY:Exporting from Canada Seminar
DESCRIPTION:Canada's unique position and a strengthening of America's economy is expected to drive significant growth in Canadian exports in 2016. Register for this session to understand internationally recognized terms of sale (Incoterms ) and the advantages and disadvantages of each. Follow along as we walk you through the supply chain considerations of global export.\n\n\n\nTopics Include\n\n\n	\n		\n			\n			\n				Foreign Affairs exporting services\n				Obtaining a business number\n				Export controls\, sanctions and permits\n				How to report your exports\n				Import and export documentation\n				Free trade agreements\n			\n			\n			\n			\n				Incoterms \n				Financing arrangements\n				Letters of credit\n				Modes of transportation\n				Temporary exports\n				Fines and penalties\n			\n			\n		\n	\n\n\n\n\nWho Should Attend\n\nOwners\, Managers\, Supervisors\, Coordinators and Logistics staff of companies:\n\n\n	\n		\n			\n			\n				Considering expanding business outside USA\n				Seeking information on Incoterms \n			\n			\n			\n			\n				New to the CAED application\n				Seeking information on non-resident importing
X-ALT-DESC;FMTTYPE=text/html:<p style="text-align:justify">Canada&rsquo\;s unique position and a strengthening of America&rsquo\;s economy is expected to drive significant growth in Canadian exports in 2016. Register for this session to understand internationally recognized terms of sale (Incoterms&reg\;) and the advantages and disadvantages of each. Follow along as we walk you through the supply chain considerations of global export.</p>\n\n<h3><br />\nTopics Include</h3>\n\n<table style="height:70px\; width:535px">\n	<tbody>\n		<tr>\n			<td>\n			<ul>\n				<li>Foreign Affairs exporting services</li>\n				<li>Obtaining a business number</li>\n				<li>Export controls\, sanctions and permits</li>\n				<li>How to report your exports</li>\n				<li>Import and export documentation</li>\n				<li>Free trade agreements</li>\n			</ul>\n			</td>\n			<td>\n			<ul>\n				<li>Incoterms&reg\;</li>\n				<li>Financing arrangements</li>\n				<li>Letters of credit</li>\n				<li>Modes of transportation</li>\n				<li>Temporary exports</li>\n				<li>Fines and penalties</li>\n			</ul>\n			</td>\n		</tr>\n	</tbody>\n</table>\n\n<h3><br />\nWho Should Attend</h3>\n\n<p>Owners\, Managers\, Supervisors\, Coordinators and Logistics staff of companies:</p>\n\n<table style="height:10px\; width:535px">\n	<tbody>\n		<tr>\n			<td>\n			<ul>\n				<li>Considering expanding business outside USA</li>\n				<li>Seeking information on Incoterms&reg\;</li>\n			</ul>\n			</td>\n			<td>\n			<ul>\n				<li>New to the CAED application</li>\n				<li>Seeking information on non-resident importing</li>\n			</ul>\n			</td>\n		</tr>\n	</tbody>\n</table>\n
LOCATION:Pacific Customs Brokers\, 17637 1st Avenue\, Surrey\, BC
UID:e.749.4790
SEQUENCE:3
DTSTAMP:20260424T064626Z
URL:https://business.swrbot.com/events/details/exporting-from-canada-seminar-04-28-2016-4790
END:VEVENT

END:VCALENDAR
