BEGIN:VCALENDAR
VERSION:2.0
PRODID:-//ChamberMaster//Event Calendar 2.0//EN
METHOD:PUBLISH
X-PUBLISHED-TTL:P3D
REFRESH-INTERVAL:P3D
CALSCALE:GREGORIAN
BEGIN:VEVENT
DTSTART:20170201T154500Z
DTEND:20170201T180000Z
X-MICROSOFT-CDO-ALLDAYEVENT:FALSE
SUMMARY:February 1\, 2017 - Surviving the Communication Highway
DESCRIPTION:Session 2: Surviving the Communication Highway\n\nWednesday\, February 1\, 2017\n\nEver feel like you're just not connecting with someone? It could be that mismatched communication styles are the culprit. In this course\, you'll learn about the four major types of communication styles\, discover your own preferred style of communication\, and develop strategies to work and lead others   no matter how they communicate.  \n\n\n\nThis series is presented by Margaret Page of Beyond the Page Coaching & Training Ltd. With more than thirty years of success as an entrepreneur and business leader\, Margaret Page draws on a wealth of insight\, experience and education.
X-ALT-DESC;FMTTYPE=text/html:<span style="font-family:arial\,helvetica\,sans-serif\;"><span style="font-size:small\;"><strong>Session 2: Surviving the Communication Highway</strong></span></span><br />\n<span style="font-family:arial\,helvetica\,sans-serif\;"><span style="font-size:small\;"><strong><span data-term="goog_1653197935" tabindex="0">Wednesday\, February 1\, 2017</span></strong></span></span><br />\n<span style="font-family:arial\,helvetica\,sans-serif\;"><span style="font-size:small\;">Ever feel like you&rsquo\;re just not connecting with someone? It could be that mismatched communication styles are the culprit. In this course\, you&rsquo\;ll learn about the four major types of communication styles\, discover your own preferred style of communication\, and develop strategies to work and lead others &mdash\; no matter how they communicate.&nbsp\; </span></span><br />\n<br />\n<i><b><span style="font-family:arial\,helvetica\,sans-serif"><font size="2"><span>This series is presented by Margaret Page of Beyond the Page Coaching &amp\; Training Ltd. </span>With more than thirty years of success as an entrepreneur and business leader\, Margaret Page draws on a wealth of insight\, experience and education.</font></span></b></i>
LOCATION:Surrey Board of Trade (101 - 14439 104 Avenue\, Surrey)
UID:e.749.5186
SEQUENCE:3
DTSTAMP:20260422T055303Z
URL:https://business.swrbot.com/events/details/february-1-2017-surviving-the-communication-highway-02-01-2017-5186
END:VEVENT

END:VCALENDAR
