BEGIN:VCALENDAR
VERSION:2.0
PRODID:-//ChamberMaster//Event Calendar 2.0//EN
METHOD:PUBLISH
X-PUBLISHED-TTL:P3D
REFRESH-INTERVAL:P3D
CALSCALE:GREGORIAN
BEGIN:VEVENT
DTSTART:20190201T183000Z
DTEND:20190201T193000Z
X-MICROSOFT-CDO-ALLDAYEVENT:FALSE
SUMMARY:February 1\, 2019 - Townhall Meeting with Conservative Party Leader\, Honourable Andrew Scheer
DESCRIPTION:The Surrey Board of Trade is hosting Conservative Party Leader\, Hon. Andrew Scheer in a town hall meeting at the Sheraton Vancouver Guildford Hotel. Attend this event and learn about the party's platform\, and policies it will pursue should they be elected to government. This is the first of the Surrey Board of Trade's Townhall Series leading up to the 43rd Federal Election.
X-ALT-DESC;FMTTYPE=text/html:The Surrey Board of Trade is hosting Conservative Party Leader\, Hon. Andrew Scheer in a&nbsp\;town hall&nbsp\;meeting at the Sheraton Vancouver Guildford Hotel. Attend this event and learn about the party&#39\;s platform\, and policies it will pursue should they be elected to government. This is the first of the Surrey Board of Trade&#39\;s Townhall Series leading up to the 43rd Federal Election.
LOCATION:Sheraton Vancouver Guildford Hotel (15269 104 Ave\, Surrey\, BC V3R 1N5)
UID:e.749.10111
SEQUENCE:3
DTSTAMP:20260420T230935Z
URL:https://business.swrbot.com/events/details/february-1-2019-townhall-meeting-with-conservative-party-leader-honourable-andrew-scheer-02-01-2019-10111
END:VEVENT

END:VCALENDAR
